BEGIN:VCALENDAR
VERSION:2.0
PRODID:-//とまこまいFUN - ECPv6.15.20//NONSGML v1.0//EN
CALSCALE:GREGORIAN
METHOD:PUBLISH
X-ORIGINAL-URL:https://tomakomai.fun
X-WR-CALDESC:とまこまいFUN のイベント
REFRESH-INTERVAL;VALUE=DURATION:PT1H
X-Robots-Tag:noindex
X-PUBLISHED-TTL:PT1H
BEGIN:VTIMEZONE
TZID:Asia/Tokyo
BEGIN:STANDARD
TZOFFSETFROM:+0900
TZOFFSETTO:+0900
TZNAME:JST
DTSTART:20240101T000000
END:STANDARD
END:VTIMEZONE
BEGIN:VEVENT
DTSTART;TZID=Asia/Tokyo:20250622T100000
DTEND;TZID=Asia/Tokyo:20250622T180000
DTSTAMP:20260425T224924
CREATED:20250523T050239Z
LAST-MODIFIED:20250616T071508Z
UID:5781-1750586400-1750615200@tomakomai.fun
SUMMARY:TOMAKOMAI GX ECHOES Music FES
DESCRIPTION:TOMASEIグループpresentsTOMAKOMAI GX ECHOES Music FES \n\n\n\n■日時6/22(日)10:00〜18:00 \n\n\n\n■会場TOMASEIホールディングス㈱本社（苫小牧市柳町2-2-8） \n\n\n\n■入場無料 \n\n\n\n\n\nなんとSUGIZOが苫小牧に！TOMASEIホールディングスで開催される「エコフェス」が見逃せない！先日一度お知らせしていた、6月22日(日)に苫小牧市柳町2丁tomakomai.fun
URL:https://tomakomai.fun/event/tomakomai-gx-echoes-music-fes/
LOCATION:北海道
CATEGORIES:ダンス,音楽
ATTACH;FMTTYPE=image/jpeg:https://tomakomai.fun/wp-content/uploads/2025/05/IMG_6419.jpeg
END:VEVENT
BEGIN:VEVENT
DTSTART;TZID=Asia/Tokyo:20250913T000000
DTEND;TZID=Asia/Tokyo:20250914T235959
DTSTAMP:20260425T224924
CREATED:20250617T035126Z
LAST-MODIFIED:20250908T155808Z
UID:6125-1757721600-1757894399@tomakomai.fun
SUMMARY:TOMAKOMAI MIRAI FEST2025
DESCRIPTION:TOMAKOMAI MIRAI FEST2025 公式ウェブサイト \n\n\n\n関連記事 \n\n\n\n\n\nミライフェスト全出演アーティスト発表！地元割も販売中ですよ♪9月13日(土)・14日(日)の2日間、キラキラ公園にて開催tomakomai.fun\n\n\n\n\n\n\nミライフェストの出演者第一弾が発表！出演オーディション情報もありましたよ！TOMAKOMAI MIRAI FEST　公式Xより先日、早くも先行販売がスタートしたことをお知らせした2025年の「TOMAKOMAI MIRAI FEST」。今回、第一弾出演アーティストの発表とともにいろんな情報が解禁されていましたよ！...tomakomai.fun2025/05/30
URL:https://tomakomai.fun/event/tomakomai-mirai-fest2025/
LOCATION:キラキラ公園\, 3-1\, 苫小牧市入船町\, 北海道\, 053-0003\, 日本
ATTACH;FMTTYPE=image/jpeg:https://tomakomai.fun/wp-content/uploads/2025/06/画像-12.jpeg
END:VEVENT
END:VCALENDAR