BEGIN:VCALENDAR
VERSION:2.0
PRODID:-//とまこまいFUN - ECPv6.15.20//NONSGML v1.0//EN
CALSCALE:GREGORIAN
METHOD:PUBLISH
X-WR-CALNAME:とまこまいFUN
X-ORIGINAL-URL:https://tomakomai.fun
X-WR-CALDESC:とまこまいFUN のイベント
REFRESH-INTERVAL;VALUE=DURATION:PT1H
X-Robots-Tag:noindex
X-PUBLISHED-TTL:PT1H
BEGIN:VTIMEZONE
TZID:Asia/Tokyo
BEGIN:STANDARD
TZOFFSETFROM:+0900
TZOFFSETTO:+0900
TZNAME:JST
DTSTART:20230101T000000
END:STANDARD
END:VTIMEZONE
BEGIN:VEVENT
DTSTART;TZID=Asia/Tokyo:20250510T180000
DTEND;TZID=Asia/Tokyo:20250510T220000
DTSTAMP:20260425T210420
CREATED:20250415T020615Z
LAST-MODIFIED:20250508T072109Z
UID:5101-1746900000-1746914400@tomakomai.fun
SUMMARY:HAPPY RELATION
DESCRIPTION:【THE FLEA MARKETS & FM TOMAKOMAI PRESENTS CHARITY LIVE】 \n\n\n\n📌 イベント名\n\n\n\nHAPPY RELATION【THE FLEA MARKETS & FM TOMAKOMAI PRESENTS CHARITY LIVE】 \n\n\n\n\n\n\n\n📅 開催日時\n\n\n\n2025年5月10日（土）開場：17:30 ／ 開演：18:00 \n\n\n\n\n\n\n\n📍 会場\n\n\n\nTOMAKOMAI ELLCUBE（エルキューブ）住所：苫小牧市王子町1丁目6-12TEL：0144-35-0501 \n\n\n\n\n\n\n\n💰 入場料金\n\n\n\n\n前売：2\,000円\n\n\n\n当日：2\,500円※入場時別途ドリンク代600円\n\n\n\n\n\n\n\n\n🎤 出演者\n\n\n\n\nTHE FLEA MARKETS\n\n\n\nNorth Sound Signal\n\n\n\nRICHRIVER\n\n\n\n門田しほり\n\n\n\n樽前ばやし（和太鼓演奏）\n\n\n\n\n\n\n\n\n🍛 出店\n\n\n\n\nマルトマ食堂のホッキカレー\n\n\n\n\n\n\n\n\n📻 主催\n\n\n\n\nTHE FLEA MARKETS\n\n\n\nFMとまこまい（FM TOMAKOMAI 83.7MHz）\n\n\n\n\n\n\n\n\n💡 その他\n\n\n\n\n当イベントの収益はすべて地域支援団体への寄付や活動の応援に充てられます。\n\n\n\nイープラスにてチケット販売中\n\n\n\n問い合わせ先メール：tmf@vnet.jp
URL:https://tomakomai.fun/event/happy-relation/
LOCATION:ELLECUBE\, 〒053-0027 北海道苫小牧市王子町１丁目６−１２
ATTACH;FMTTYPE=image/jpeg:https://tomakomai.fun/wp-content/uploads/2025/04/IMG_4217.jpeg
END:VEVENT
BEGIN:VEVENT
DTSTART;TZID=Asia/Tokyo:20250505T140000
DTEND;TZID=Asia/Tokyo:20250505T160000
DTSTAMP:20260425T210420
CREATED:20250415T021332Z
LAST-MODIFIED:20250415T021333Z
UID:5106-1746453600-1746460800@tomakomai.fun
SUMMARY:The 15th TOMAKOMAI MUSIC FESTIVAL
DESCRIPTION:📌 イベント名 \n\n\n\n\nThe 15th TOMAKOMAI MUSIC FESTIVAL\n\n\n\n黒岩真美 presents\n\n\n\n\n\n\n\n\n🗓 開催日時\n\n\n\n\n2025年5月5日（月・祝）\n\n\n\n14:00～16:00（開場 13:30）\n\n\n\n\n\n\n\n\n📍 会場\n\n\n\n\n苫小牧市文化会館\n\n\n\n北海道苫小牧市旭町2丁目8-19\n\n\n\n\n\n\n\n\n🎫 入場料\n\n\n\n\n一般：前売 2\,500円 ／ 当日 3\,000円\n\n\n\n小中高生：前売 1\,000円 ／ 当日 1\,500円\n\n\n\n\n\n\n\n\n🎟 チケット販売所\n\n\n\n\n苫小牧市民会館\n\n\n\n苫小牧市文化会館\n\n\n\nエルム楽器\n\n\n\n沼ノ端エルム楽器\n\n\n\nのぞみコミセン\n\n\n\n住吉コミセン\n\n\n\n\n\n\n\n\n👤 主催\n\n\n\n\n黒岩真美音楽祭実行委員会\n\n\n\n\n\n\n\n\n🏢 後援\n\n\n\n\n苫小牧市\n\n\n\n苫小牧市教育委員会\n\n\n\n苫小牧吹奏楽連盟\n\n\n\n北海道新聞社 苫小牧支社\n\n\n\n\n\n\n\n\n🤝 協力\n\n\n\n\nエルム楽器\n\n\n\n三響楽器\n\n\n\n\n\n\n\n\n🎤 出演者など（敬称略）\n\n\n\n\n井村誠貴（Conductor）\n\n\n\n黒岩真美（Clarinet）\n\n\n\n生田瑚桃（Vocal）\n\n\n\n佐藤朗楓（Navigator）\n\n\n\n東高校演劇部（Drama club）\n\n\n\nDamatsu Special Band（DSB）\n\n\n\n\n\n\n\n\n🎵 プログラム（2ページ目より）\n\n\n\n第一部 \n\n\n\n\nアルセナール\n\n\n\n2025年度課題曲\n\n\n\nオクトーバー\n\n\n\nミス・サイゴン\n\n\n\n\n第二部 \n\n\n\n\nドリームメンバー共演\n\nオーメンズ・オブ・ラブ\n\n\n\nアフリカンシンフォニー\n\n\n\nDSB×カラオケバトルにも出演した生田瑚桃が歌う昭和歌謡・平成歌謡・令和歌謡 & ダンス\n\n\n\n\n\n\n\n\n\n\n📞 お問い合わせ\n\n\n\n苫小牧市文化会館（0144-36-7823） \n\n\n\nTMF実行委員会（090-6513-6441）
URL:https://tomakomai.fun/event/musicfestival/
LOCATION:北海道
ATTACH;FMTTYPE=image/jpeg:https://tomakomai.fun/wp-content/uploads/2025/04/IMG_4277-e1744682889511.jpeg
END:VEVENT
BEGIN:VEVENT
DTSTART;TZID=Asia/Tokyo:20241013T100000
DTEND;TZID=Asia/Tokyo:20241013T150000
DTSTAMP:20260425T210420
CREATED:20241007T030430Z
LAST-MODIFIED:20241007T030430Z
UID:2220-1728813600-1728831600@tomakomai.fun
SUMMARY:Neighborhood Market
DESCRIPTION:
URL:https://tomakomai.fun/event/neighborhood-market/
LOCATION:FORT by THE COAST\, 浜厚真４７２−７\, 勇払郡厚真町\, 北海道\, 059-1742\, 日本
CATEGORIES:自然,音楽
ATTACH;FMTTYPE=image/jpeg:https://tomakomai.fun/wp-content/uploads/2024/10/IMG_5730.jpeg
END:VEVENT
END:VCALENDAR