BEGIN:VCALENDAR
VERSION:2.0
PRODID:-//とまこまいFUN - ECPv6.15.20//NONSGML v1.0//EN
CALSCALE:GREGORIAN
METHOD:PUBLISH
X-WR-CALNAME:とまこまいFUN
X-ORIGINAL-URL:https://tomakomai.fun
X-WR-CALDESC:とまこまいFUN のイベント
REFRESH-INTERVAL;VALUE=DURATION:PT1H
X-Robots-Tag:noindex
X-PUBLISHED-TTL:PT1H
BEGIN:VTIMEZONE
TZID:Asia/Tokyo
BEGIN:STANDARD
TZOFFSETFROM:+0900
TZOFFSETTO:+0900
TZNAME:JST
DTSTART:20240101T000000
END:STANDARD
END:VTIMEZONE
BEGIN:VEVENT
DTSTART;TZID=Asia/Tokyo:20250208T190000
DTEND;TZID=Asia/Tokyo:20250208T220000
DTSTAMP:20260425T210414
CREATED:20250124T031632Z
LAST-MODIFIED:20250124T031818Z
UID:3693-1739041200-1739052000@tomakomai.fun
SUMMARY:深堀りサミットとまこまい 全5回
DESCRIPTION:
URL:https://tomakomai.fun/event/%e6%b7%b1%e5%a0%80%e3%82%8a%e3%82%b5%e3%83%9f%e3%83%83%e3%83%88%e3%81%a8%e3%81%be%e3%81%93%e3%81%be%e3%81%84-%e5%85%a85%e5%9b%9e/
LOCATION:Tomakomai Hub（旧いとう履物店）\, 〒053-0024 北海道苫小牧市大町１丁目１−７
CATEGORIES:学ぶ
ATTACH;FMTTYPE=image/jpeg:https://tomakomai.fun/wp-content/uploads/2025/01/Image-13.jpg
END:VEVENT
END:VCALENDAR