BEGIN:VCALENDAR
VERSION:2.0
PRODID:-//とまこまいFUN - ECPv6.15.20//NONSGML v1.0//EN
CALSCALE:GREGORIAN
METHOD:PUBLISH
X-WR-CALNAME:とまこまいFUN
X-ORIGINAL-URL:https://tomakomai.fun
X-WR-CALDESC:とまこまいFUN のイベント
REFRESH-INTERVAL;VALUE=DURATION:PT1H
X-Robots-Tag:noindex
X-PUBLISHED-TTL:PT1H
BEGIN:VTIMEZONE
TZID:Asia/Tokyo
BEGIN:STANDARD
TZOFFSETFROM:+0900
TZOFFSETTO:+0900
TZNAME:JST
DTSTART:20240101T000000
END:STANDARD
END:VTIMEZONE
BEGIN:VEVENT
DTSTART;TZID=Asia/Tokyo:20250821T190000
DTEND;TZID=Asia/Tokyo:20250821T203000
DTSTAMP:20260425T200822
CREATED:20250819T032859Z
LAST-MODIFIED:20250819T032859Z
UID:7528-1755802800-1755808200@tomakomai.fun
SUMMARY:怪談TERROR〜本堂に眠る、一夜限りの恐体験〜
DESCRIPTION:チケットはこちらから \n\n\n\n        この投稿をInstagramで見る            【苫小牧】正光寺　しょうこうじ【公式】(@shokouji_official)がシェアした投稿
URL:https://tomakomai.fun/event/%e6%80%aa%e8%ab%87terror%e3%80%9c%e6%9c%ac%e5%a0%82%e3%81%ab%e7%9c%a0%e3%82%8b%e3%80%81%e4%b8%80%e5%a4%9c%e9%99%90%e3%82%8a%e3%81%ae%e6%81%90%e4%bd%93%e9%a8%93%e3%80%9c/
LOCATION:正光寺\, 高砂町2丁目3-21\, 苫小牧市\, 北海道\, 日本
CATEGORIES:怪談
ATTACH;FMTTYPE=image/jpeg:https://tomakomai.fun/wp-content/uploads/2025/08/IMG_9817.jpeg
END:VEVENT
END:VCALENDAR