BEGIN:VCALENDAR
VERSION:2.0
PRODID:-//とまこまいFUN - ECPv6.15.20//NONSGML v1.0//EN
CALSCALE:GREGORIAN
METHOD:PUBLISH
X-WR-CALNAME:とまこまいFUN
X-ORIGINAL-URL:https://tomakomai.fun
X-WR-CALDESC:とまこまいFUN のイベント
REFRESH-INTERVAL;VALUE=DURATION:PT1H
X-Robots-Tag:noindex
X-PUBLISHED-TTL:PT1H
BEGIN:VTIMEZONE
TZID:Asia/Tokyo
BEGIN:STANDARD
TZOFFSETFROM:+0900
TZOFFSETTO:+0900
TZNAME:JST
DTSTART:20240101T000000
END:STANDARD
END:VTIMEZONE
BEGIN:VEVENT
DTSTART;TZID=Asia/Tokyo:20250213T130000
DTEND;TZID=Asia/Tokyo:20250213T163000
DTSTAMP:20260420T141030
CREATED:20250124T033059Z
LAST-MODIFIED:20250124T033059Z
UID:3700-1739451600-1739464200@tomakomai.fun
SUMMARY:消費生活サポート養成講座
DESCRIPTION:【タイトル】\n受講者募集！\n消費生活サポーター養成講座 \n【日時】\n令和7年2月13日（木） 13:00～16:30 \n【会場】\n苫小牧市民活動センター 1階 多目的ホール\n（〒053-0021 苫小牧市若草町3丁目3-8） \n【対象】\n苫小牧市内に在住、または通勤・通学する18歳以上の方 \n【定員】\n50人（先着順） \n【受講料】\n無料 \n【申込期間】\n令和7年1月6日（月）～1月31日（金） \n【主催】\n苫小牧市\n市民生活部 市民生活課 市民生活担当・消費生活担当 \n【お問い合わせ先】\nTEL：0144-32-6306\nFAX：0144-36-3606\nE-mail：siminseikatu@city.tomakomai.hokkaido.jp
URL:https://tomakomai.fun/event/%e6%b6%88%e8%b2%bb%e7%94%9f%e6%b4%bb%e3%82%b5%e3%83%9d%e3%83%bc%e3%83%88%e9%a4%8a%e6%88%90%e8%ac%9b%e5%ba%a7/
LOCATION:苫小牧市民活動センター\, 〒053-0021 北海道苫小牧市若草町３丁目３−８
CATEGORIES:学ぶ
ATTACH;FMTTYPE=image/jpeg:https://tomakomai.fun/wp-content/uploads/2025/01/Image-1-1.jpg
END:VEVENT
BEGIN:VEVENT
DTSTART;TZID=Asia/Tokyo:20250319T000000
DTEND;TZID=Asia/Tokyo:20250323T235959
DTSTAMP:20260420T141030
CREATED:20250205T023321Z
LAST-MODIFIED:20250205T023324Z
UID:3940-1742342400-1742774399@tomakomai.fun
SUMMARY:市民活動センター絵画展 作品募集
DESCRIPTION:イベント名: 市民活動センター絵画展 作品募集 \n\n\n\n副題: みんなで飾ろう！自慢のアート \n\n\n\n主催: 苫小牧市民活動センター（指定管理者: 苫小牧市社会福祉協議会） \n\n\n\n対象: 13歳から18歳までの苫小牧市民 \n\n\n\n募集作品: 自分で描いた絵画（PCで描いた場合はプリントしたもの） \n\n\n\n募集期間: 令和7年1月20日（月）～令和7年3月7日（金） \n\n\n\n※先着順、60作品に達した時点で終了 \n\n\n\n作品サイズ: 40号Fサイズ以内（100cm×80.3cm程度まで） \n\n\n\n※額縁の有無は自由、無い場合は画鋲などで固定 \n\n\n\n出品料: 無料 \n\n\n\n応募方法: QRコードより応募フォームへ \n\n\n\n展示期間: 令和7年3月19日（水）～令和7年3月23日（日） \n\n\n\n展示場所: 苫小牧市若草町3丁目3-8 苫小牧市民活動センター1階市民ギャラリー \n\n\n\n問い合わせ: \n\n\n\n担当: 総務課総務係 \n\n\n\nTEL: 0144-32-7111 \n\n\n\nFAX: 0144-34-8141 \n\n\n\nMAIL: info.soumu@tomakomai-shakyo.or.jp
URL:https://tomakomai.fun/event/%e5%b8%82%e6%b0%91%e6%b4%bb%e5%8b%95%e3%82%bb%e3%83%b3%e3%82%bf%e3%83%bc%e7%b5%b5%e7%94%bb%e5%b1%95-%e4%bd%9c%e5%93%81%e5%8b%9f%e9%9b%86/
LOCATION:苫小牧市民活動センター\, 〒053-0021 北海道苫小牧市若草町３丁目３−８
CATEGORIES:展示
ATTACH;FMTTYPE=image/jpeg:https://tomakomai.fun/wp-content/uploads/2025/02/⑤総合福祉課　自主事業　絵画展ちらし_31095_sanitized_28701_marked-1.jpg
END:VEVENT
END:VCALENDAR