BEGIN:VCALENDAR
VERSION:2.0
PRODID:-//とまこまいFUN - ECPv6.15.20//NONSGML v1.0//EN
CALSCALE:GREGORIAN
METHOD:PUBLISH
X-WR-CALNAME:とまこまいFUN
X-ORIGINAL-URL:https://tomakomai.fun
X-WR-CALDESC:とまこまいFUN のイベント
REFRESH-INTERVAL;VALUE=DURATION:PT1H
X-Robots-Tag:noindex
X-PUBLISHED-TTL:PT1H
BEGIN:VTIMEZONE
TZID:Asia/Tokyo
BEGIN:STANDARD
TZOFFSETFROM:+0900
TZOFFSETTO:+0900
TZNAME:JST
DTSTART:20230101T000000
END:STANDARD
END:VTIMEZONE
BEGIN:VEVENT
DTSTART;TZID=Asia/Tokyo:20241221T180000
DTEND;TZID=Asia/Tokyo:20241221T220000
DTSTAMP:20260425T191818
CREATED:20241205T031309Z
LAST-MODIFIED:20241205T032033Z
UID:2982-1734804000-1734818400@tomakomai.fun
SUMMARY:ELLCUBE19th記念特別公演「19年後」 ＆ ザ・リーサルウェポンズ「ロック ロック コンバンワ ツアー2024」
DESCRIPTION:
URL:https://tomakomai.fun/event/ellcube19th%e8%a8%98%e5%bf%b5%e7%89%b9%e5%88%a5%e5%85%ac%e6%bc%94%e3%80%8c19%e5%b9%b4%e5%be%8c%e3%80%8d-%ef%bc%86-%e3%82%b6%e3%83%bb%e3%83%aa%e3%83%bc%e3%82%b5%e3%83%ab%e3%82%a6%e3%82%a7%e3%83%9d/
LOCATION:ELLCUBE\, 〒053-0027 北海道苫小牧市王子町１丁目６−１２
CATEGORIES:音楽
ATTACH;FMTTYPE=image/jpeg:https://tomakomai.fun/wp-content/uploads/2024/12/460435218_17884081425105393_4015784335082383664_n.jpg
END:VEVENT
END:VCALENDAR