BEGIN:VCALENDAR
VERSION:2.0
PRODID:-//とまこまいFUN - ECPv6.15.20//NONSGML v1.0//EN
CALSCALE:GREGORIAN
METHOD:PUBLISH
X-WR-CALNAME:とまこまいFUN
X-ORIGINAL-URL:https://tomakomai.fun
X-WR-CALDESC:とまこまいFUN のイベント
REFRESH-INTERVAL;VALUE=DURATION:PT1H
X-Robots-Tag:noindex
X-PUBLISHED-TTL:PT1H
BEGIN:VTIMEZONE
TZID:Asia/Tokyo
BEGIN:STANDARD
TZOFFSETFROM:+0900
TZOFFSETTO:+0900
TZNAME:JST
DTSTART:20240101T000000
END:STANDARD
END:VTIMEZONE
BEGIN:VEVENT
DTSTART;TZID=Asia/Tokyo:20250405T003000
DTEND;TZID=Asia/Tokyo:20250405T050000
DTSTAMP:20260425T204352
CREATED:20250404T044155Z
LAST-MODIFIED:20250404T044156Z
UID:4923-1743813000-1743829200@tomakomai.fun
SUMMARY:eスポーツイベントin苫小牧　シーズン0　 ～ココトマ-esports選手来場イベント～
DESCRIPTION:
URL:https://tomakomai.fun/event/esports/
LOCATION:まちなか交流センター ココトマ
ATTACH;FMTTYPE=image/jpeg:https://tomakomai.fun/wp-content/uploads/2025/04/画像.jpeg
END:VEVENT
END:VCALENDAR