BEGIN:VCALENDAR
VERSION:2.0
PRODID:-//とまこまいFUN - ECPv6.15.20//NONSGML v1.0//EN
CALSCALE:GREGORIAN
METHOD:PUBLISH
X-WR-CALNAME:とまこまいFUN
X-ORIGINAL-URL:https://tomakomai.fun
X-WR-CALDESC:とまこまいFUN のイベント
REFRESH-INTERVAL;VALUE=DURATION:PT1H
X-Robots-Tag:noindex
X-PUBLISHED-TTL:PT1H
BEGIN:VTIMEZONE
TZID:Asia/Tokyo
BEGIN:STANDARD
TZOFFSETFROM:+0900
TZOFFSETTO:+0900
TZNAME:JST
DTSTART:20230101T000000
END:STANDARD
END:VTIMEZONE
BEGIN:VEVENT
DTSTART;TZID=Asia/Tokyo:20250617T140000
DTEND;TZID=Asia/Tokyo:20250617T180000
DTSTAMP:20260425T225439
CREATED:20250603T054216Z
LAST-MODIFIED:20250603T054217Z
UID:5920-1750168800-1750183200@tomakomai.fun
SUMMARY:Peace（おしゃべりカフェピース）
DESCRIPTION:イベント名\n\n\n\nPeace（おしゃべりカフェ ピース） \n\n\n\n\n\n\n\nPeaceでは何ができるの？\n\n\n\n\nおしゃべり・交流・ゲームなど好きなことをしてのんびり過ごせます\n\n\n\nスタッフに学校のことや恋愛のことなど、相談できますので気軽に話しかけてくださいね！\n\n\n\n\n\n\n\n\nおすすめの過ごし方\n\n\n\n\nTHE WORLDのタロット占いを楽しむ\n\n\n\n飲み物やパンを食べてのんびり\n\n\n\nTHE WORLDのコーヒーコーナーもおすすめ！\n\n\n\n\n\n\n\n\n日時\n\n\n\n令和7年6月17日（火） 14:00〜18:00※毎月第3火曜日開催（祝日は変更の可能性あり） \n\n\n\n\n\n\n\n会場\n\n\n\nココトマラウンジ住所：表町5-11-5 ふれんどビル・テナント棟1階（苫小牧市） \n\n\n\n\n\n\n\n対象\n\n\n\n小学生から18才まで \n\n\n\n\n\n\n\n参加費\n\n\n\n無料 \n\n\n\n\n\n\n\nお問い合わせ先\n\n\n\n苫小牧市社会福祉協議会TEL：0144-84-6635
URL:https://tomakomai.fun/event/peace%ef%bc%88%e3%81%8a%e3%81%97%e3%82%83%e3%81%b9%e3%82%8a%e3%82%ab%e3%83%95%e3%82%a7%e3%83%94%e3%83%bc%e3%82%b9%ef%bc%89/
LOCATION:ココトマ\, 〒053-0022 北海道苫小牧市表町５丁目１１−５ ふれんどビル･テナント棟 1F
CATEGORIES:無料相談
ATTACH;FMTTYPE=image/jpeg:https://tomakomai.fun/wp-content/uploads/2025/06/IMG_6432.jpg
END:VEVENT
BEGIN:VEVENT
DTSTART;TZID=Asia/Tokyo:20250405T003000
DTEND;TZID=Asia/Tokyo:20250405T050000
DTSTAMP:20260425T225439
CREATED:20250404T044155Z
LAST-MODIFIED:20250404T044156Z
UID:4923-1743813000-1743829200@tomakomai.fun
SUMMARY:eスポーツイベントin苫小牧　シーズン0　 ～ココトマ-esports選手来場イベント～
DESCRIPTION:
URL:https://tomakomai.fun/event/esports/
LOCATION:まちなか交流センター ココトマ
ATTACH;FMTTYPE=image/jpeg:https://tomakomai.fun/wp-content/uploads/2025/04/画像.jpeg
END:VEVENT
BEGIN:VEVENT
DTSTART;TZID=Asia/Tokyo:20250125T100000
DTEND;TZID=Asia/Tokyo:20250125T170000
DTSTAMP:20260425T225439
CREATED:20250117T063252Z
LAST-MODIFIED:20250117T063252Z
UID:3596-1737799200-1737824400@tomakomai.fun
SUMMARY:WINTER GAMES FESTIVAL
DESCRIPTION:
URL:https://tomakomai.fun/event/winter-games-festival/
LOCATION:ココトマ\, 〒053-0022 北海道苫小牧市表町５丁目１１−５ ふれんどビル･テナント棟 1F
CATEGORIES:ゲーム
ATTACH;FMTTYPE=image/jpeg:https://tomakomai.fun/wp-content/uploads/2025/01/IMG_0261.jpeg
END:VEVENT
BEGIN:VEVENT
DTSTART;TZID=Asia/Tokyo:20250118T140000
DTEND;TZID=Asia/Tokyo:20250118T170000
DTSTAMP:20260425T225439
CREATED:20250105T152014Z
LAST-MODIFIED:20250105T152014Z
UID:3411-1737208800-1737219600@tomakomai.fun
SUMMARY:第1回 新春ココトマ寄席
DESCRIPTION:
URL:https://tomakomai.fun/event/%e7%ac%ac1%e5%9b%9e-%e6%96%b0%e6%98%a5%e3%82%b3%e3%82%b3%e3%83%88%e3%83%9e%e5%af%84%e5%b8%ad/
LOCATION:ココトマ\, 〒053-0022 北海道苫小牧市表町５丁目１１−５ ふれんどビル･テナント棟 1F
CATEGORIES:お笑い・落語
ATTACH;FMTTYPE=image/jpeg:https://tomakomai.fun/wp-content/uploads/2025/01/IMG_9640.jpeg
END:VEVENT
BEGIN:VEVENT
DTSTART;TZID=Asia/Tokyo:20241123T130000
DTEND;TZID=Asia/Tokyo:20241123T170000
DTSTAMP:20260425T225439
CREATED:20241029T022724Z
LAST-MODIFIED:20241029T023130Z
UID:2546-1732366800-1732381200@tomakomai.fun
SUMMARY:苫小牧ベンチャーサミット（同日開催「苫小牧の虎」）
DESCRIPTION:苫小牧ベンチャーサミットと同時にピッチ成功で起業資金が獲得できる「苫小牧の虎」が開催されます。 \nピッチの応募は2024年10月31日(木)まで！ \n詳細&応募はこちらをチェック！
URL:https://tomakomai.fun/event/%e8%8b%ab%e5%b0%8f%e7%89%a7%e3%83%99%e3%83%b3%e3%83%81%e3%83%a3%e3%83%bc%e3%82%b5%e3%83%9f%e3%83%83%e3%83%88%ef%bc%88%e5%90%8c%e6%97%a5%e9%96%8b%e5%82%ac%e3%80%8c%e8%8b%ab%e5%b0%8f%e7%89%a7%e3%81%ae/
LOCATION:ココトマ\, 〒053-0022 北海道苫小牧市表町５丁目１１−５ ふれんどビル･テナント棟 1F
CATEGORIES:学ぶ
ATTACH;FMTTYPE=image/jpeg:https://tomakomai.fun/wp-content/uploads/2024/10/11月23日苫小牧ベンチャーサミット.jpeg
END:VEVENT
BEGIN:VEVENT
DTSTART;TZID=Asia/Tokyo:20240803T100000
DTEND;TZID=Asia/Tokyo:20240803T120000
DTSTAMP:20260425T225439
CREATED:20240728T170418Z
LAST-MODIFIED:20240728T170418Z
UID:1209-1722679200-1722686400@tomakomai.fun
SUMMARY:わんにゃんぴっ相談室
DESCRIPTION:
URL:https://tomakomai.fun/event/%e3%82%8f%e3%82%93%e3%81%ab%e3%82%83%e3%82%93%e3%81%b4%e3%81%a3%e7%9b%b8%e8%ab%87%e5%ae%a4/
LOCATION:ココトマ\, 〒053-0022 北海道苫小牧市表町５丁目１１−５ ふれんどビル･テナント棟 1F
CATEGORIES:ペット,学ぶ,無料相談
ATTACH;FMTTYPE=image/jpeg:https://tomakomai.fun/wp-content/uploads/2024/07/IMG_9654.jpeg
END:VEVENT
END:VCALENDAR