BEGIN:VCALENDAR
VERSION:2.0
PRODID:-//とまこまいFUN - ECPv6.15.20//NONSGML v1.0//EN
CALSCALE:GREGORIAN
METHOD:PUBLISH
X-WR-CALNAME:とまこまいFUN
X-ORIGINAL-URL:https://tomakomai.fun
X-WR-CALDESC:とまこまいFUN のイベント
REFRESH-INTERVAL;VALUE=DURATION:PT1H
X-Robots-Tag:noindex
X-PUBLISHED-TTL:PT1H
BEGIN:VTIMEZONE
TZID:Asia/Tokyo
BEGIN:STANDARD
TZOFFSETFROM:+0900
TZOFFSETTO:+0900
TZNAME:JST
DTSTART:20230101T000000
END:STANDARD
END:VTIMEZONE
BEGIN:VEVENT
DTSTART;TZID=Asia/Tokyo:20241124T170000
DTEND;TZID=Asia/Tokyo:20241124T210000
DTSTAMP:20260420T160832
CREATED:20241112T015647Z
LAST-MODIFIED:20241112T015647Z
UID:2713-1732467600-1732482000@tomakomai.fun
SUMMARY:CANDOLLKEY×TIES dolllips presents「win the right」
DESCRIPTION:
URL:https://tomakomai.fun/event/candollkeyxties-dolllips-presents%e3%80%8cwin-the-right%e3%80%8d/
LOCATION:アイビー・プラザ\, 〒053-0025 北海道苫小牧市本町１丁目６−１
CATEGORIES:音楽
ATTACH;FMTTYPE=image/jpeg:https://tomakomai.fun/wp-content/uploads/2024/11/IMG_7244.jpeg
END:VEVENT
END:VCALENDAR