BEGIN:VCALENDAR
VERSION:2.0
PRODID:-//とまこまいFUN - ECPv6.15.20//NONSGML v1.0//EN
CALSCALE:GREGORIAN
METHOD:PUBLISH
X-WR-CALNAME:とまこまいFUN
X-ORIGINAL-URL:https://tomakomai.fun
X-WR-CALDESC:とまこまいFUN のイベント
REFRESH-INTERVAL;VALUE=DURATION:PT1H
X-Robots-Tag:noindex
X-PUBLISHED-TTL:PT1H
BEGIN:VTIMEZONE
TZID:Asia/Tokyo
BEGIN:STANDARD
TZOFFSETFROM:+0900
TZOFFSETTO:+0900
TZNAME:JST
DTSTART:20230101T000000
END:STANDARD
END:VTIMEZONE
BEGIN:VEVENT
DTSTART;TZID=Asia/Tokyo:20241228T130000
DTEND;TZID=Asia/Tokyo:20241228T170000
DTSTAMP:20260425T211835
CREATED:20241226T083735Z
LAST-MODIFIED:20241226T083735Z
UID:3315-1735390800-1735405200@tomakomai.fun
SUMMARY:MUSICSNOW AREA0144
DESCRIPTION:
URL:https://tomakomai.fun/event/musicsnow-area0144/
LOCATION:ELLCUBE\, 〒053-0027 北海道苫小牧市王子町１丁目６−１２
CATEGORIES:音楽
ATTACH;FMTTYPE=image/jpeg:https://tomakomai.fun/wp-content/uploads/2024/12/EA7A0494-BE01-4ED6-9B79-D0F759D06EE8.jpeg
END:VEVENT
END:VCALENDAR