BEGIN:VCALENDAR
VERSION:2.0
PRODID:-//とまこまいFUN - ECPv6.15.20//NONSGML v1.0//EN
CALSCALE:GREGORIAN
METHOD:PUBLISH
X-WR-CALNAME:とまこまいFUN
X-ORIGINAL-URL:https://tomakomai.fun
X-WR-CALDESC:とまこまいFUN のイベント
REFRESH-INTERVAL;VALUE=DURATION:PT1H
X-Robots-Tag:noindex
X-PUBLISHED-TTL:PT1H
BEGIN:VTIMEZONE
TZID:Asia/Tokyo
BEGIN:STANDARD
TZOFFSETFROM:+0900
TZOFFSETTO:+0900
TZNAME:JST
DTSTART:20240101T000000
END:STANDARD
END:VTIMEZONE
BEGIN:VEVENT
DTSTART;TZID=Asia/Tokyo:20250817T110000
DTEND;TZID=Asia/Tokyo:20250817T200000
DTSTAMP:20260426T100442
CREATED:20250812T003852Z
LAST-MODIFIED:20250812T003940Z
UID:7435-1755428400-1755460800@tomakomai.fun
SUMMARY:とまこまい氷夏フェス2025
DESCRIPTION:「第2回とまこまい氷夏フェス2025」\n\n\n\n\n日時：2025年8月16日(土)、8月17日(日)　11:00〜20:00\n\n\n\n場所：nepiaアイスアリーナ敷地内\n\n\n\n\n\n\n氷都とまこまいの熱い夏！今年も「氷夏フェス」が開催されます。2024年、初開催され大好評のうちに終了した「とまこまい氷夏フェス」。今年はさらにパワーアップして行われるようですよ！去年に引き続き、今年もイベント盛りだくさんの2日間になっています。画像提供元：一般社団法人苫小牧タウンマネジメント「第2回...tomakomai.fun2025/08/06
URL:https://tomakomai.fun/event/%e3%81%a8%e3%81%be%e3%81%93%e3%81%be%e3%81%84%e6%b0%b7%e5%a4%8f%e3%83%95%e3%82%a7%e3%82%b92025/
LOCATION:nepiaアイスアリーナ\, 若草町２丁目４−１\, 苫小牧市\, 北海道\, 053-0021\, 日本
ATTACH;FMTTYPE=image/jpeg:https://tomakomai.fun/wp-content/uploads/2025/08/IMG_2563.jpg
END:VEVENT
END:VCALENDAR