BEGIN:VCALENDAR
VERSION:2.0
PRODID:-//とまこまいFUN - ECPv6.15.20//NONSGML v1.0//EN
CALSCALE:GREGORIAN
METHOD:PUBLISH
X-ORIGINAL-URL:https://tomakomai.fun
X-WR-CALDESC:とまこまいFUN のイベント
REFRESH-INTERVAL;VALUE=DURATION:PT1H
X-Robots-Tag:noindex
X-PUBLISHED-TTL:PT1H
BEGIN:VTIMEZONE
TZID:Asia/Tokyo
BEGIN:STANDARD
TZOFFSETFROM:+0900
TZOFFSETTO:+0900
TZNAME:JST
DTSTART:20250101T000000
END:STANDARD
END:VTIMEZONE
BEGIN:VEVENT
DTSTART;TZID=Asia/Tokyo:20260425T110000
DTEND;TZID=Asia/Tokyo:20260426T153000
DTSTAMP:20260425T011841
CREATED:20260424T071046Z
LAST-MODIFIED:20260424T071241Z
UID:12006-1777114800-1777217400@tomakomai.fun
SUMMARY:水鏡見学会
DESCRIPTION:【水鏡見学会】 ◼︎ 開催日時： 2026年4月25日(土) 〜 4月26日(日) 11:00～19:30  ◼︎ 場所： nepiaアイスアリーナ ◼︎ 内容： \n\n\n\n\n氷が張る前のリンクに水を張り、鏡のように周囲を反射させる「水鏡」の一般公開\n\n\n\nライティング演出： レッドイーグルス北海道の会場演出を手掛ける服部 響氏（@hibiki0128）監修による、初の光の演出を実施\n\n\n\n特別展示： レッドイーグルス北海道の「優勝記念トロフィー」および「優勝記念フラッグ」を選手控室にて展示\n\n\n\nその他： 2025年水鏡フォトコンテスト金賞作品の展示（@yutashika04 様）\n\n\n\n\n\n\nnepiaアイスアリーナでも幻想的な風景が！年一度の恒例「水鏡見学会」が4月25、26日に開催されます！若草町にある「nepiaアイスアリーナ」で、年に一度だけ開催tomakomai.fun
URL:https://tomakomai.fun/event/%e6%b0%b4%e9%8f%a1%e8%a6%8b%e5%ad%a6%e4%bc%9a/
LOCATION:nepiaアイスアリーナ\, 若草町２丁目４−１\, 苫小牧市\, 北海道\, 053-0021\, 日本
ATTACH;FMTTYPE=image/jpeg:https://tomakomai.fun/wp-content/uploads/2026/04/HGVTJlsa4AA3sFS.jpeg
END:VEVENT
END:VCALENDAR