BEGIN:VCALENDAR
VERSION:2.0
PRODID:-//とまこまいFUN - ECPv6.15.20//NONSGML v1.0//EN
CALSCALE:GREGORIAN
METHOD:PUBLISH
X-ORIGINAL-URL:https://tomakomai.fun
X-WR-CALDESC:とまこまいFUN のイベント
REFRESH-INTERVAL;VALUE=DURATION:PT1H
X-Robots-Tag:noindex
X-PUBLISHED-TTL:PT1H
BEGIN:VTIMEZONE
TZID:Asia/Tokyo
BEGIN:STANDARD
TZOFFSETFROM:+0900
TZOFFSETTO:+0900
TZNAME:JST
DTSTART:20240101T000000
END:STANDARD
END:VTIMEZONE
BEGIN:VEVENT
DTSTART;TZID=Asia/Tokyo:20250816T173000
DTEND;TZID=Asia/Tokyo:20250816T213000
DTSTAMP:20260426T000951
CREATED:20250808T054212Z
LAST-MODIFIED:20250812T003634Z
UID:7388-1755365400-1755379800@tomakomai.fun
SUMMARY:盆ODORI
DESCRIPTION:日時：8月16日（土）17時30分～21時30分\n\n\n\n会場：一条通大町GINZAストリート野外特設会場\n\n\n\n料金：無料\n\n\n\n\n\n\n今年も大町でDJイベント「OMACHI DJ BON ODORI」が開催されます。豪華ゲストが来場予定！「大町銀座ストリート」のある一条通を通行止めにして、街ごと踊tomakomai.fun
URL:https://tomakomai.fun/event/7388/
LOCATION:一条通り大町銀座ストリート\, 大町１丁目３−１１\, 苫小牧市\, 北海道\, 日本
ATTACH;FMTTYPE=image/jpeg:https://tomakomai.fun/wp-content/uploads/2025/08/573126691263348738.jpeg
END:VEVENT
END:VCALENDAR