BEGIN:VCALENDAR
VERSION:2.0
PRODID:-//とまこまいFUN - ECPv6.15.20//NONSGML v1.0//EN
CALSCALE:GREGORIAN
METHOD:PUBLISH
X-WR-CALNAME:とまこまいFUN
X-ORIGINAL-URL:https://tomakomai.fun
X-WR-CALDESC:とまこまいFUN のイベント
REFRESH-INTERVAL;VALUE=DURATION:PT1H
X-Robots-Tag:noindex
X-PUBLISHED-TTL:PT1H
BEGIN:VTIMEZONE
TZID:Asia/Tokyo
BEGIN:STANDARD
TZOFFSETFROM:+0900
TZOFFSETTO:+0900
TZNAME:JST
DTSTART:20240101T000000
END:STANDARD
END:VTIMEZONE
BEGIN:VEVENT
DTSTART;TZID=Asia/Tokyo:20250215T110000
DTEND;TZID=Asia/Tokyo:20250215T130000
DTSTAMP:20260422T024256
CREATED:20250214T043547Z
LAST-MODIFIED:20250214T043548Z
UID:4134-1739617200-1739624400@tomakomai.fun
SUMMARY:FMとまこまい 83.7MHz 公開生放送
DESCRIPTION:イベント情報 \n\n\n\n\nイベント名: FMとまこまい 83.7MHz 公開生放送\n\n\n\n開催日時: 2025年2月15日（土） 11:00～13:00\n\n\n\n会場: イオンモール苫小牧 1Fモンベル前広場\n\n\n\n会費: 記載なし（無料の可能性あり）\n\n\n\n主催者: FMとまこまい 83.7MHz\n\n\n\nイベント内容:\n\n公開生放送\n\n\n\n「心に届くギフトで幸せタイム」コーナー\n\n\n\nシニア向け「住宅の選び方」情報提供\n\n\n\nワークショップ＆物販（10:00～13:00）\n\nハンドメイド: りんごの木箱（前日大好評・2回目の出店）\n\n\n\n物販: ベビーアイテムのおみせ「mint」\n\n\n\n\n\n\n\n放送の聴き方:\n\nFMラジオ: 83.7MHz\n\n\n\nスマホアプリ「Radimo」でも聴取可能\n\n\n\n\n\n主な協賛・協力:\n\nイオン北海道株式会社\n\n\n\n北海道新聞\n\n\n\n北海道マイホームセンター\n\n\n\n\n\n公式SNS: Instagram情報発信中\n\n\n\n\n補足: イオンモール苫小牧の住所は「北海道苫小牧市柳町3丁目1-20」です。
URL:https://tomakomai.fun/event/fm%e3%81%a8%e3%81%be%e3%81%93%e3%81%be%e3%81%84-83-7mhz-%e5%85%ac%e9%96%8b%e7%94%9f%e6%94%be%e9%80%81/
LOCATION:イオンモール苫小牧\, 〒053-0053 北海道苫小牧市柳町３丁目１−２０
CATEGORIES:ラジオ
ATTACH;FMTTYPE=image/jpeg:https://tomakomai.fun/wp-content/uploads/2025/02/Image-13.jpg
END:VEVENT
BEGIN:VEVENT
DTSTART;TZID=Asia/Tokyo:20250220T190000
DTEND;TZID=Asia/Tokyo:20250220T200000
DTSTAMP:20260422T024256
CREATED:20250220T033428Z
LAST-MODIFIED:20250220T045142Z
UID:4269-1740078000-1740081600@tomakomai.fun
SUMMARY:お金の勉強会
DESCRIPTION:イベント名: お金の勉強会 \n\n\n\n副題: 知らないと損ってホント？ \n\n\n\n開催日時: 2月20日（木）19:00～20:00 \n\n\n\n会費: 無料 \n\n\n\n会場: オンライン（パソコン・スマートフォンで参加可能） \n\n\n\n参加方法: QRコードから申し込み（受付後にZoomのURLが送付される） \n\n\n\n講師: 三好 智 さん（ファイナンシャルプランナー、アクサ生命保険株式会社 苫小牧営業所長） \n\n\n\n主催: アクサ生命保険株式会社 札幌支社 \n\n\n\n企画・協力: とまこまいコミュニティ放送株式会社 \n\n\n\n特典: セミナー後、個別相談を申し込んだ方に「野村マート」のお米2kgをプレゼント \n\n\n\n電話: 0144-84-3975 \n\n\n\nEメール: info@837.jp \n\n\n\n通信料は自己負担 \n\n\n\nアンケート協力のお願いあり
URL:https://tomakomai.fun/event/%e3%81%8a%e9%87%91%e3%81%ae%e5%8b%89%e5%bc%b7%e4%bc%9a/
CATEGORIES:学ぶ
ATTACH;FMTTYPE=image/jpeg:https://tomakomai.fun/wp-content/uploads/2025/02/Image-5.jpg
END:VEVENT
END:VCALENDAR