BEGIN:VCALENDAR
VERSION:2.0
PRODID:-//とまこまいFUN - ECPv6.15.20//NONSGML v1.0//EN
CALSCALE:GREGORIAN
METHOD:PUBLISH
X-WR-CALNAME:とまこまいFUN
X-ORIGINAL-URL:https://tomakomai.fun
X-WR-CALDESC:とまこまいFUN のイベント
REFRESH-INTERVAL;VALUE=DURATION:PT1H
X-Robots-Tag:noindex
X-PUBLISHED-TTL:PT1H
BEGIN:VTIMEZONE
TZID:Asia/Tokyo
BEGIN:STANDARD
TZOFFSETFROM:+0900
TZOFFSETTO:+0900
TZNAME:JST
DTSTART:20240101T000000
END:STANDARD
END:VTIMEZONE
BEGIN:VEVENT
DTSTART;TZID=Asia/Tokyo:20250830T110000
DTEND;TZID=Asia/Tokyo:20250831T180000
DTSTAMP:20260426T015517
CREATED:20250830T074229Z
LAST-MODIFIED:20250830T074230Z
UID:7825-1756551600-1756663200@tomakomai.fun
SUMMARY:ビアガーデン祭2025
DESCRIPTION:この投稿をInstagramで見る            NAOYA(@naotima)がシェアした投稿 \n\n\n\n\n日時：2025年8月30日(土)・8月31日(日)場所：DogRun KEN＋
URL:https://tomakomai.fun/event/%e3%83%93%e3%82%a2%e3%82%ac%e3%83%bc%e3%83%87%e3%83%b3%e7%a5%ad2025/
LOCATION:DogrunKEN+\, 北海道苫小牧市ときわ町３丁目７−５
ATTACH;FMTTYPE=image/jpeg:https://tomakomai.fun/wp-content/uploads/2025/08/53A8EADD-728B-4835-B06D-C0D5DC6A4BAD.jpeg
END:VEVENT
END:VCALENDAR