BEGIN:VCALENDAR
VERSION:2.0
PRODID:-//とまこまいFUN - ECPv6.15.20//NONSGML v1.0//EN
CALSCALE:GREGORIAN
METHOD:PUBLISH
X-ORIGINAL-URL:https://tomakomai.fun
X-WR-CALDESC:とまこまいFUN のイベント
REFRESH-INTERVAL;VALUE=DURATION:PT1H
X-Robots-Tag:noindex
X-PUBLISHED-TTL:PT1H
BEGIN:VTIMEZONE
TZID:Asia/Tokyo
BEGIN:STANDARD
TZOFFSETFROM:+0900
TZOFFSETTO:+0900
TZNAME:JST
DTSTART:20230101T000000
END:STANDARD
END:VTIMEZONE
BEGIN:VEVENT
DTSTART;TZID=Asia/Tokyo:20260405T130000
DTEND;TZID=Asia/Tokyo:20260405T170000
DTSTAMP:20260420T015739
CREATED:20260309T063618Z
LAST-MODIFIED:20260309T063619Z
UID:11164-1775394000-1775408400@tomakomai.fun
SUMMARY:ASC北海道 2026シーズン出陣式
DESCRIPTION:
URL:https://tomakomai.fun/event/asc%e5%8c%97%e6%b5%b7%e9%81%93-2026%e3%82%b7%e3%83%bc%e3%82%ba%e3%83%b3%e5%87%ba%e9%99%a3%e5%bc%8f/
LOCATION:苫小牧市民文化ホール　グランドホール\, 〒053-0018 北海道苫小牧市旭町３丁目３\, 苫小牧市
CATEGORIES:スポーツ
ATTACH;FMTTYPE=image/jpeg:https://tomakomai.fun/wp-content/uploads/2026/03/601690054478004616.jpg
END:VEVENT
BEGIN:VEVENT
DTSTART;TZID=Asia/Tokyo:20260328T140000
DTEND;TZID=Asia/Tokyo:20260328T150000
DTSTAMP:20260420T015739
CREATED:20260309T062837Z
LAST-MODIFIED:20260309T062837Z
UID:11158-1774706400-1774710000@tomakomai.fun
SUMMARY:ASC北海道レディース 新体制発表会見
DESCRIPTION:
URL:https://tomakomai.fun/event/asc%e5%8c%97%e6%b5%b7%e9%81%93%e3%83%ac%e3%83%87%e3%82%a3%e3%83%bc%e3%82%b9-%e6%96%b0%e4%bd%93%e5%88%b6%e7%99%ba%e8%a1%a8%e4%bc%9a%e8%a6%8b/
LOCATION:ザ・ノースカントリーゴルフクラブ\, 〒066-0068 北海道千歳市蘭越２６\, 千歳市
CATEGORIES:スポーツ
ATTACH;FMTTYPE=image/jpeg:https://tomakomai.fun/wp-content/uploads/2026/03/601690047212945548.jpg
END:VEVENT
BEGIN:VEVENT
DTSTART;TZID=Asia/Tokyo:20250806T080000
DTEND;TZID=Asia/Tokyo:20250808T170000
DTSTAMP:20260420T015739
CREATED:20250723T035914Z
LAST-MODIFIED:20250723T035914Z
UID:6993-1754467200-1754672400@tomakomai.fun
SUMMARY:2025とまこまいスポーツまつり
DESCRIPTION:豪華ゲストも登場！とまこまいスポーツまつりが開催されます。2025年8月6日(水)～8日(金）までの3日間、『第3回tomakomai.fun
URL:https://tomakomai.fun/event/2025%e3%81%a8%e3%81%be%e3%81%93%e3%81%be%e3%81%84%e3%82%b9%e3%83%9d%e3%83%bc%e3%83%84%e3%81%be%e3%81%a4%e3%82%8a/
LOCATION:nepiaアイスアリーナ\, 若草町２丁目４−１\, 苫小牧市\, 北海道\, 053-0021\, 日本
CATEGORIES:スポーツ
ATTACH;FMTTYPE=image/jpeg:https://tomakomai.fun/wp-content/uploads/2025/07/1753106851724.jpg
END:VEVENT
BEGIN:VEVENT
DTSTART;TZID=Asia/Tokyo:20250629T000000
DTEND;TZID=Asia/Tokyo:20250629T235959
DTSTAMP:20260420T015739
CREATED:20250404T052311Z
LAST-MODIFIED:20250508T080221Z
UID:4939-1751155200-1751241599@tomakomai.fun
SUMMARY:出光北海道 第42回とまこまいマラソン大会
DESCRIPTION:
URL:https://tomakomai.fun/event/%e5%87%ba%e5%85%89%e5%8c%97%e6%b5%b7%e9%81%93-%e7%ac%ac42%e5%9b%9e%e3%81%a8%e3%81%be%e3%81%93%e3%81%be%e3%81%84%e3%83%9e%e3%83%a9%e3%82%bd%e3%83%b3%e5%a4%a7%e4%bc%9a/
LOCATION:苫小牧市立勇払中学校\, 北海道苫小牧市勇払132
CATEGORIES:スポーツ,マラソン
ATTACH;FMTTYPE=image/jpeg:https://tomakomai.fun/wp-content/uploads/2025/04/IMG_3714.jpeg
END:VEVENT
BEGIN:VEVENT
DTSTART;TZID=Asia/Tokyo:20250608T090000
DTEND;TZID=Asia/Tokyo:20250608T170000
DTSTAMP:20260420T015739
CREATED:20250521T020004Z
LAST-MODIFIED:20250521T020012Z
UID:5730-1749373200-1749402000@tomakomai.fun
SUMMARY:FUTURE PEACE STREET inTOMAKOMAI
DESCRIPTION:【FUTURE PEACE STREET in TOMAKOMAI】 \n\n\n\n日時：2025年6月8日（日）9:00〜17:00会場：nepiaアイスアリーナ（若草町2丁目4-1） \n\n\n\n参加申込： \n\n\n\n\n事前受付（5月20日まで）：バスケットボール3on3、ダンスショーケース、フットサル、ランバイクレース\n\n\n\n当日受付：モルック体験、サッカー体験、外国人講師による英語あそび、DTM\n\n\n\n\nゲスト： \n\n\n\n\nフリースタイルバドリブル 日本5連覇のレジェンド「Whitea」さん\n\n\n\nレッドイーグルス北海道の選手\n\n\n\n着ぐるみ恐竜キャラ「寺野さん」も⁈\n\n\n\n\nその他：キッチンカー出店あり \n\n\n\n後援：苫小牧市、FM苫小牧、とまこまい未来プロジェクト \n\n\n\n        この投稿をInstagramで見る            future peace street(@future_peace_street)がシェアした投稿
URL:https://tomakomai.fun/event/future-peace-street-intomakomai/
LOCATION:nepiaアイスアリーナ\, 若草町２丁目４−１\, 苫小牧市\, 北海道\, 053-0021\, 日本
CATEGORIES:スポーツ,ダンス,体験,音楽
ATTACH;FMTTYPE=image/jpeg:https://tomakomai.fun/wp-content/uploads/2025/05/E3718B48-5105-46B0-BBA4-ADEF7402B2B9.jpeg
END:VEVENT
BEGIN:VEVENT
DTSTART;TZID=Asia/Tokyo:20250518T090000
DTEND;TZID=Asia/Tokyo:20250518T170000
DTSTAMP:20260420T015739
CREATED:20250114T040242Z
LAST-MODIFIED:20250515T162911Z
UID:3529-1747558800-1747587600@tomakomai.fun
SUMMARY:ノーザンホースパークマラソン2025
DESCRIPTION:
URL:https://tomakomai.fun/event/%e3%83%8e%e3%83%bc%e3%82%b6%e3%83%b3%e3%83%9b%e3%83%bc%e3%82%b9%e3%83%91%e3%83%bc%e3%82%af%e3%83%9e%e3%83%a9%e3%82%bd%e3%83%b32025/
LOCATION:ノーザンホースパーク
CATEGORIES:スポーツ,マラソン
ATTACH;FMTTYPE=image/jpeg:https://tomakomai.fun/wp-content/uploads/2025/01/IMG_0182-e1736827139691.jpeg
END:VEVENT
BEGIN:VEVENT
DTSTART;TZID=Asia/Tokyo:20250511T140000
DTEND;TZID=Asia/Tokyo:20250511T180000
DTSTAMP:20260420T015739
CREATED:20250415T022310Z
LAST-MODIFIED:20250508T072909Z
UID:5109-1746972000-1746986400@tomakomai.fun
SUMMARY:GLEAT T-HAWK SHOW～ T-Hawk凱旋大会 ～
DESCRIPTION:◆日時2025年5月11日 (日)開場 13:00 開始14:00 \n\n\n\n◆会場アブロス矢代スポーツセンター \n\n\n\n◆アクセス苫小牧市矢代町2丁目1番12号tel. 0144-74-4777※室蘭本線青葉駅　徒歩20分※道南バス澄川錦岡線 弥生２丁目 徒歩3分※道南バス宮の森はまなす線元町２丁目 徒歩3分 \n\n\n\n※ご来場のお客様へのお願いご来場の皆様へのお願いと取り組みについてを必ずお読みください。 \n\n\n\n◆入場料金(消費税込み)最前列プレミアムシート　￥12\,000RS席　￥7\,500指定席　￥5\,500※小学生以上有料　小学生未満は席が必要な場合は有料※当日￥500アップ \n\n\n\n・ローソンチケット　https://l-tike.com/sports/GLEAT/・チケットぴあ　https://w.pia.jp/t/gleat/・e＋ イープラス　 [専用URL]http://eplus.jp/gleat/ (PC&スマートフォン) ※ファミリーマート店内Famiポート  \n\n\n\n◆主催リデットエンターテインメント株式会社  \n\n\n\n対戦カードは決定次第発表 \n\n\n\n◆特別参戦選手（予定）・吉田考志選手・山縣優選手・龍寿選手
URL:https://tomakomai.fun/event/t-hawk/
LOCATION:アブロス矢代スポーツセンター\, 日本、〒053-0803 北海道苫小牧市矢代町２丁目１−１２
CATEGORIES:スポーツ,プロレス
ATTACH;FMTTYPE=image/jpeg:https://tomakomai.fun/wp-content/uploads/2025/04/IMG_4213-e1744683323812.jpeg
END:VEVENT
BEGIN:VEVENT
DTSTART;VALUE=DATE:20250206
DTEND;VALUE=DATE:20250210
DTSTAMP:20260420T015739
CREATED:20241225T062339Z
LAST-MODIFIED:20241226T011834Z
UID:3292-1738800000-1739145599@tomakomai.fun
SUMMARY:氷都最終決戦-オリンピック冬季競技大会-
DESCRIPTION:ミラノ・コルティナ２０２６冬季オリンピックの出場権を懸け、女子アイスホッケー競技の最終予選が苫小牧市（nepiaアイスアリーナ）で開催されます！\n前回、満員の中オリンピック出場を決めたスマイルジャパンが、再び「氷都とまこまい」で５回目のオリンピック出場を目指します！\nスマイルジャパンには、苫小牧市にゆかりのある選手が多く在籍していますので、たくさんの応援でオリンピック出場を後押ししましょう！ \n　日程等は以下のとおりです。\n　・令和７年２月６日（木）　第１日（２試合）\n第１試合（１２：００～）： 中国 ＶＳ 予選通過国\n第２試合（１５：３０～）： 日本 ＶＳ フランス　（ＮＨＫにて中継予定）・令和７年２月８日（土）　第２日（２試合）\n第３試合（１２：００～）： 中国 ＶＳ フランス\n第４試合（１５：３０～）： 予選通過国 ＶＳ 日本　（ＮＨＫにて中継予定） \n・令和７年２月９日（日）　第３日（２試合）\n第５試合（１２：００～）： フランス ＶＳ 予選通過国\n第６試合（１５：３０～）： 日本 ＶＳ 中国　（ＮＨＫにて中継予定）
URL:https://tomakomai.fun/event/%e6%b0%b7%e9%83%bd%e6%9c%80%e7%b5%82%e6%b1%ba%e6%88%a6-%e3%82%aa%e3%83%aa%e3%83%b3%e3%83%94%e3%83%83%e3%82%af%e5%86%ac%e5%ad%a3%e7%ab%b6%e6%8a%80%e5%a4%a7%e4%bc%9a/
LOCATION:nepiaアイスアリーナ\, 若草町２丁目４−１\, 苫小牧市\, 北海道\, 053-0021\, 日本
CATEGORIES:アイスホッケー,スポーツ
ATTACH;FMTTYPE=image/jpeg:https://tomakomai.fun/wp-content/uploads/2024/12/20241220163901.jpg
END:VEVENT
BEGIN:VEVENT
DTSTART;VALUE=DATE:20250120
DTEND;VALUE=DATE:20250125
DTSTAMP:20260420T015739
CREATED:20250114T025016Z
LAST-MODIFIED:20250114T025016Z
UID:3524-1737331200-1737763199@tomakomai.fun
SUMMARY:第74回 全国高等学校選抜アイスホッケー競技選手権大会
DESCRIPTION:■開催期間：2025年 01月 21日 (火) ～ 2025年 01月 24日 (金)\n■開催会場：nepiaアイスアリーナ、新ときわスケートセンター、ダイナックス沼ノ端アイスアリーナ
URL:https://tomakomai.fun/event/%e7%ac%ac74%e5%9b%9e-%e5%85%a8%e5%9b%bd%e9%ab%98%e7%ad%89%e5%ad%a6%e6%a0%a1%e9%81%b8%e6%8a%9c%e3%82%a2%e3%82%a4%e3%82%b9%e3%83%9b%e3%83%83%e3%82%b1%e3%83%bc%e7%ab%b6%e6%8a%80%e9%81%b8%e6%89%8b/
LOCATION:nepiaアイスアリーナ\, 若草町２丁目４−１\, 苫小牧市\, 北海道\, 053-0021\, 日本
CATEGORIES:アイスホッケー,スポーツ
ATTACH;FMTTYPE=image/jpeg:https://tomakomai.fun/wp-content/uploads/2025/01/IMG_0178.jpeg
END:VEVENT
BEGIN:VEVENT
DTSTART;TZID=Asia/Tokyo:20241122T000000
DTEND;TZID=Asia/Tokyo:20241124T000000
DTSTAMP:20260420T015739
CREATED:20241121T073538Z
LAST-MODIFIED:20241122T050406Z
UID:2826-1732233600-1732406400@tomakomai.fun
SUMMARY:2024/25 全日本選抜スピードスケート競技会 苫小牧大会
DESCRIPTION:  \n 
URL:https://tomakomai.fun/event/event-sketo/
LOCATION:苫小牧市ハイランドスポーツセンター\, 〒053-0035 北海道苫小牧市高丘４１
CATEGORIES:スポーツ
ATTACH;FMTTYPE=image/jpeg:https://tomakomai.fun/wp-content/uploads/2024/11/tempImagePE1wzt-1.jpg
END:VEVENT
BEGIN:VEVENT
DTSTART;TZID=Asia/Tokyo:20241014T090000
DTEND;TZID=Asia/Tokyo:20241014T173000
DTSTAMP:20260420T015739
CREATED:20241008T020647Z
LAST-MODIFIED:20241008T020647Z
UID:2248-1728896400-1728927000@tomakomai.fun
SUMMARY:スポフェス2024
DESCRIPTION:
URL:https://tomakomai.fun/event/%e3%82%b9%e3%83%9d%e3%83%95%e3%82%a7%e3%82%b92024/
LOCATION:苫小牧市総合体育館\, 日本、〒053-0011 北海道苫小牧市末広町３丁目２−１６
CATEGORIES:スポーツ
ATTACH;FMTTYPE=image/jpeg:https://tomakomai.fun/wp-content/uploads/2024/10/画像.jpeg
END:VEVENT
BEGIN:VEVENT
DTSTART;TZID=Asia/Tokyo:20240824T110000
DTEND;TZID=Asia/Tokyo:20240825T200000
DTSTAMP:20260420T015739
CREATED:20240806T041239Z
LAST-MODIFIED:20240821T235450Z
UID:1322-1724497200-1724616000@tomakomai.fun
SUMMARY:第一回　とまこまい氷夏フェス2024
DESCRIPTION:苫小牧初のイベント、「第1回とまこまい氷夏フェス2024」が豪華なイベント内容です！先日開催された「とまみん苫小牧百年花火」などを手掛けている市tomakomai.fun\n\nとまこまい氷夏フェス 【氷男】決定戦参加者募集！「氷都とまこまい」への熱い想いを持った市民有志が協力し、2024年8月24日(土)〜8月25日(日)にわたってnapiaアイスアリーナにて初のイベント「とまこまい氷夏フェス」が開催されます！こちらのイベント内で、トライアスロン『初代【氷男】...tomakomai.fun2024/07/29
URL:https://tomakomai.fun/event/fes/
LOCATION:nepiaアイスアリーナ\, 若草町２丁目４−１\, 苫小牧市\, 北海道\, 053-0021\, 日本
CATEGORIES:お祭り,アイスホッケー,キッチンカー,スポーツ
ATTACH;FMTTYPE=image/jpeg:https://tomakomai.fun/wp-content/uploads/2024/08/0802_E6B0B7E5A48FE38395E382A7E382B9_E3839BE3829AE382B9E382BFE383BC-3.jpeg
END:VEVENT
BEGIN:VEVENT
DTSTART;VALUE=DATE:20240706
DTEND;VALUE=DATE:20240707
DTSTAMP:20260420T015739
CREATED:20240701T135256Z
LAST-MODIFIED:20240702T141500Z
UID:730-1720224000-1720310399@tomakomai.fun
SUMMARY:nepiaアイスアリーナ オープニングイベント
DESCRIPTION:
URL:https://tomakomai.fun/event/nepia%e3%82%a2%e3%82%a4%e3%82%b9%e3%82%a2%e3%83%aa%e3%83%bc%e3%83%8a-%e3%82%aa%e3%83%bc%e3%83%97%e3%83%8b%e3%83%b3%e3%82%b0%e3%82%a4%e3%83%99%e3%83%b3%e3%83%88/
LOCATION:nepiaアイスアリーナ\, 若草町２丁目４−１\, 苫小牧市\, 北海道\, 053-0021\, 日本
CATEGORIES:アイスホッケー,学ぶ
ATTACH;FMTTYPE=image/jpeg:https://tomakomai.fun/wp-content/uploads/2024/07/Image-14.jpeg
END:VEVENT
END:VCALENDAR