BEGIN:VCALENDAR
VERSION:2.0
PRODID:-//とまこまいFUN - ECPv6.15.20//NONSGML v1.0//EN
CALSCALE:GREGORIAN
METHOD:PUBLISH
X-ORIGINAL-URL:https://tomakomai.fun
X-WR-CALDESC:とまこまいFUN のイベント
REFRESH-INTERVAL;VALUE=DURATION:PT1H
X-Robots-Tag:noindex
X-PUBLISHED-TTL:PT1H
BEGIN:VTIMEZONE
TZID:Asia/Tokyo
BEGIN:STANDARD
TZOFFSETFROM:+0900
TZOFFSETTO:+0900
TZNAME:JST
DTSTART:20230101T000000
END:STANDARD
END:VTIMEZONE
BEGIN:VEVENT
DTSTART;TZID=Asia/Tokyo:20240824T110000
DTEND;TZID=Asia/Tokyo:20240825T200000
DTSTAMP:20260425T212354
CREATED:20240806T041239Z
LAST-MODIFIED:20240821T235450Z
UID:1322-1724497200-1724616000@tomakomai.fun
SUMMARY:第一回　とまこまい氷夏フェス2024
DESCRIPTION:苫小牧初のイベント、「第1回とまこまい氷夏フェス2024」が豪華なイベント内容です！先日開催された「とまみん苫小牧百年花火」などを手掛けている市tomakomai.fun\n\nとまこまい氷夏フェス 【氷男】決定戦参加者募集！「氷都とまこまい」への熱い想いを持った市民有志が協力し、2024年8月24日(土)〜8月25日(日)にわたってnapiaアイスアリーナにて初のイベント「とまこまい氷夏フェス」が開催されます！こちらのイベント内で、トライアスロン『初代【氷男】...tomakomai.fun2024/07/29
URL:https://tomakomai.fun/event/fes/
LOCATION:nepiaアイスアリーナ\, 若草町２丁目４−１\, 苫小牧市\, 北海道\, 053-0021\, 日本
CATEGORIES:お祭り,アイスホッケー,キッチンカー,スポーツ
ATTACH;FMTTYPE=image/jpeg:https://tomakomai.fun/wp-content/uploads/2024/08/0802_E6B0B7E5A48FE38395E382A7E382B9_E3839BE3829AE382B9E382BFE383BC-3.jpeg
END:VEVENT
BEGIN:VEVENT
DTSTART;VALUE=DATE:20240907
DTEND;VALUE=DATE:20240909
DTSTAMP:20260425T212355
CREATED:20240701T134119Z
LAST-MODIFIED:20240819T082408Z
UID:718-1725667200-1725839999@tomakomai.fun
SUMMARY:苫小牧ミライフェスト2024
DESCRIPTION:今年も豪華出演陣の「ミライフェスト」。とまチョップステージのアーティストがすべて発表されました！どんどん出演アーティストが発表されていく「TOMAKOMAItomakomai.fun
URL:https://tomakomai.fun/event/%e8%8b%ab%e5%b0%8f%e7%89%a7%e3%83%9f%e3%83%a9%e3%82%a4%e3%83%95%e3%82%a7%e3%82%b9%e3%83%882024/
LOCATION:キラキラ公園\, 3-1\, 苫小牧市入船町\, 北海道\, 053-0003\, 日本
CATEGORIES:お祭り,キッチンカー,音楽,食
ATTACH;FMTTYPE=image/jpeg:https://tomakomai.fun/wp-content/uploads/2024/08/IMG_2782-1.jpeg
END:VEVENT
BEGIN:VEVENT
DTSTART;TZID=Asia/Tokyo:20240915T110000
DTEND;TZID=Asia/Tokyo:20240915T180000
DTSTAMP:20260425T212355
CREATED:20240817T180215Z
LAST-MODIFIED:20240817T180215Z
UID:1453-1726398000-1726423200@tomakomai.fun
SUMMARY:ときわ夏祭り
DESCRIPTION:
URL:https://tomakomai.fun/event/%e3%81%a8%e3%81%8d%e3%82%8f%e5%a4%8f%e7%a5%ad%e3%82%8a/
LOCATION:ときわ4丁目公園\, 苫小牧市ときわ町4丁目21番地
CATEGORIES:お祭り
ATTACH;FMTTYPE=image/jpeg:https://tomakomai.fun/wp-content/uploads/2024/08/IMG_3202.jpeg
END:VEVENT
BEGIN:VEVENT
DTSTART;TZID=Asia/Tokyo:20241006T110000
DTEND;TZID=Asia/Tokyo:20241006T150000
DTSTAMP:20260425T212355
CREATED:20241002T054031Z
LAST-MODIFIED:20241002T054046Z
UID:2141-1728212400-1728226800@tomakomai.fun
SUMMARY:西町親交会　秋まつり
DESCRIPTION:
URL:https://tomakomai.fun/event/%e8%a5%bf%e7%94%ba%e8%a6%aa%e4%ba%a4%e4%bc%9a%e3%80%80%e7%a7%8b%e3%81%be%e3%81%a4%e3%82%8a/
LOCATION:西町公園\, 〒053-0806 北海道苫小牧市大成町２丁目１０−１
CATEGORIES:お祭り,食
ATTACH;FMTTYPE=image/jpeg:https://tomakomai.fun/wp-content/uploads/2024/10/IMG_5640.jpeg
END:VEVENT
BEGIN:VEVENT
DTSTART;TZID=Asia/Tokyo:20241012T090000
DTEND;TZID=Asia/Tokyo:20241012T120000
DTSTAMP:20260425T212355
CREATED:20241009T010335Z
LAST-MODIFIED:20241009T010412Z
UID:2274-1728723600-1728734400@tomakomai.fun
SUMMARY:苫小牧漁協青年部 朝市
DESCRIPTION:
URL:https://tomakomai.fun/event/asaiti/
LOCATION:北海道
CATEGORIES:お祭り
ATTACH;FMTTYPE=image/jpeg:https://tomakomai.fun/wp-content/uploads/2024/10/IMG_5783.jpeg
END:VEVENT
BEGIN:VEVENT
DTSTART;TZID=Asia/Tokyo:20241013T103000
DTEND;TZID=Asia/Tokyo:20241013T153000
DTSTAMP:20260425T212355
CREATED:20241009T011905Z
LAST-MODIFIED:20241009T011905Z
UID:2282-1728815400-1728833400@tomakomai.fun
SUMMARY:第2回 ティラノサウルスレースinとまこまい
DESCRIPTION:
URL:https://tomakomai.fun/event/%e7%ac%ac2%e5%9b%9e-%e3%83%86%e3%82%a3%e3%83%a9%e3%83%8e%e3%82%b5%e3%82%a6%e3%83%ab%e3%82%b9%e3%83%ac%e3%83%bc%e3%82%b9in%e3%81%a8%e3%81%be%e3%81%93%e3%81%be%e3%81%84/
LOCATION:北洋大学\, 〒059-1266 北海道苫小牧市錦西町３丁目２−１
CATEGORIES:レース
ATTACH;FMTTYPE=image/jpeg:https://tomakomai.fun/wp-content/uploads/2024/10/tomakomai.jpeg
END:VEVENT
BEGIN:VEVENT
DTSTART;TZID=Asia/Tokyo:20241020T090000
DTEND;TZID=Asia/Tokyo:20241020T150000
DTSTAMP:20260425T212355
CREATED:20241009T010044Z
LAST-MODIFIED:20241009T010044Z
UID:2270-1729414800-1729436400@tomakomai.fun
SUMMARY:第11回 苫小牧漁港ホッキまつり
DESCRIPTION:イベントの詳細記事はこちら。
URL:https://tomakomai.fun/event/hokki/
LOCATION:苫小牧港西港漁港区\, 〒053-0012 北海道苫小牧市汐見町１丁目１−１３
CATEGORIES:お祭り
ATTACH;FMTTYPE=image/jpeg:https://tomakomai.fun/wp-content/uploads/2024/10/IMG_5781.jpeg
END:VEVENT
BEGIN:VEVENT
DTSTART;VALUE=DATE:20250201
DTEND;VALUE=DATE:20250225
DTSTAMP:20260425T212355
CREATED:20241227T082041Z
LAST-MODIFIED:20241227T082041Z
UID:3334-1738368000-1740441599@tomakomai.fun
SUMMARY:千歳・支笏湖氷濤まつり
DESCRIPTION:2025年2月1日(土) ～ 2月24日(月・祝)\n開場時間／10:00～20:00\nライトアップ／16:30～20:00\n会場／北海道千歳市支笏湖温泉\n入場料／中学生以上 1\,000円（小学生以下無料）
URL:https://tomakomai.fun/event/%e5%8d%83%e6%ad%b3%e3%83%bb%e6%94%af%e7%ac%8f%e6%b9%96%e6%b0%b7%e6%bf%a4%e3%81%be%e3%81%a4%e3%82%8a/
LOCATION:支笏湖温泉\, 支笏湖温泉\, 千歳市\, 北海道\, 〒066-0281\, Japan
CATEGORIES:お祭り,イルミ・ライトアップ,自然,花火
ATTACH;FMTTYPE=image/jpeg:https://tomakomai.fun/wp-content/uploads/2024/12/panf2025.jpg
END:VEVENT
BEGIN:VEVENT
DTSTART;TZID=Asia/Tokyo:20250208T000000
DTEND;TZID=Asia/Tokyo:20250209T235959
DTSTAMP:20260425T212355
CREATED:20241130T164945Z
LAST-MODIFIED:20250124T062255Z
UID:2922-1738972800-1739145599@tomakomai.fun
SUMMARY:第59回 とまこまいスケートまつり
DESCRIPTION:第59回 とまこまいスケートまつりのプログラムが公開されていました。来たる2月8日(土)・2月9日(日)に開催される苫小牧の冬の一大イベント「とまこまいスケートまつり」。2025年で59回を迎える冬の風物詩。開催まであと2週間余りに迫ってきましたが、プログラムが公開されていましたよ！tomakomai.fun
URL:https://tomakomai.fun/event/%e7%ac%ac59%e5%9b%9e-%e3%81%a8%e3%81%be%e3%81%93%e3%81%be%e3%81%84%e3%82%b9%e3%82%b1%e3%83%bc%e3%83%88%e3%81%be%e3%81%a4%e3%82%8a/
LOCATION:北海道
CATEGORIES:スケートまつり
ATTACH;FMTTYPE=image/jpeg:https://tomakomai.fun/wp-content/uploads/2024/11/IMG_7974-1.jpeg
END:VEVENT
BEGIN:VEVENT
DTSTART;TZID=Asia/Tokyo:20250420T110000
DTEND;TZID=Asia/Tokyo:20250420T140000
DTSTAMP:20260425T212355
CREATED:20250304T054752Z
LAST-MODIFIED:20250304T070004Z
UID:4420-1745146800-1745157600@tomakomai.fun
SUMMARY:お寺の小さなおまつり「花まつり」
DESCRIPTION:お寺の小さなおまつり「花まつり」開催日: 2025年4月20日(日)タイムスケジュール: \n\n\n\n\n11:00 稚児行列・初参式\n\n\n\n12:00頃 各店販売スタート\n\n\n\n14:00 花まつり終了\n\n\n\n\n会場: 正光寺（苫小牧市高砂町2丁目3-21）電話番号: 0144-32-2664イベント内容: \n\n\n\n\n仏教の開祖・お釈迦さまの誕生を祝う祭り\n\n\n\n甘茶・やきとり・カレー・バザーなど多数の催し物\n\n\n\n家族や友人と楽しめるイベント\n\n\n\n\n特別イベント: \n\n\n\n申込方法: LINEで受付 \n\n\n\n初参式（しょさんしき）申込受付中 \n\n\n\n対象: 赤ちゃん～小学生 \n\n\n\n稚児行列にレンタル衣装（有料）で参加可能 \n\n\n\n申込締切: 4月6日
URL:https://tomakomai.fun/event/event-hanamaturi/
LOCATION:正光寺\, 高砂町2丁目3-21\, 苫小牧市\, 北海道\, 日本
CATEGORIES:お祭り
ATTACH;FMTTYPE=image/jpeg:https://tomakomai.fun/wp-content/uploads/2025/03/Image-19.jpg
END:VEVENT
BEGIN:VEVENT
DTSTART;TZID=Asia/Tokyo:20250426T100000
DTEND;TZID=Asia/Tokyo:20250427T060000
DTSTAMP:20260425T212355
CREATED:20250404T045009Z
LAST-MODIFIED:20250404T045010Z
UID:4927-1745661600-1745733600@tomakomai.fun
SUMMARY:第1回 金太郎の池春祭
DESCRIPTION:2025年春、「金太郎の池」で新しいイベントが開催されるようです！雪もほぼなくなり、外に出ると日に日に春の兆しを見つけるようにtomakomai.fun
URL:https://tomakomai.fun/event/event-kintarounoike/
LOCATION:緑ヶ丘公園\, 〒053-0034 北海道苫小牧市清水町３丁目１
CATEGORIES:お祭り
ATTACH;FMTTYPE=image/jpeg:https://tomakomai.fun/wp-content/uploads/2025/03/IMG_3576.jpeg
END:VEVENT
BEGIN:VEVENT
DTSTART;TZID=Asia/Tokyo:20250613T050000
DTEND;TZID=Asia/Tokyo:20250614T203000
DTSTAMP:20260425T212355
CREATED:20250604T050115Z
LAST-MODIFIED:20250604T074415Z
UID:5930-1749790800-1749933000@tomakomai.fun
SUMMARY:出雲神社まつり
DESCRIPTION:開催日：令和7年6月13日（金）、6月14日（土）時間：15時〜20時30分会場：苫小牧市錦町1丁目　錦町出雲公園主催：二区町内会内容：焼き鳥、やきそば、キッチンカー、くじ引き \n\n\n\n \n\n\n\n\n\n今年もこの季節がやってきた！錦町で開催される「出雲神社例大祭」のお知らせです。苫小牧の夏の風物詩のひとつといえば、錦町にある出雲神社で毎年tomakomai.fun
URL:https://tomakomai.fun/event/izzumojinnjyamaturi/
LOCATION:いずも公園\, 錦町1丁目5番地\, 苫小牧市\, 北海道\, 053-0023\, 日本
CATEGORIES:お祭り,キッチンカー
ATTACH;FMTTYPE=image/jpeg:https://tomakomai.fun/wp-content/uploads/2025/06/IMG_6452.jpeg
END:VEVENT
BEGIN:VEVENT
DTSTART;TZID=Asia/Tokyo:20250726T110000
DTEND;TZID=Asia/Tokyo:20250726T210000
DTSTAMP:20260425T212355
CREATED:20250722T053019Z
LAST-MODIFIED:20250722T053020Z
UID:6938-1753527600-1753563600@tomakomai.fun
SUMMARY:「DogRun KEN＋」ビアガーデン&夏まつり
DESCRIPTION:この投稿をInstagramで見る            西彩笑店会公式アカウント@苫小牧(@saisaisyoutenkai_tomakomai)がシェアした投稿 \n\n\n\n\n\n\n\nときわ町の「DogRun KEN＋」でビアガーデンや夏祭りが開催されます。夏といえばビアガーデン！苫小牧でも各地でビアガーデンが催されています。苫小牧市内のビアガーデン情報は、これらの記事もあわせてチェックしてみてください。7月26日（土）、27日（日）の2日間、ときわ町のドッグラン施設・「DogRun KEN＋...tomakomai.fun2025/07/20
URL:https://tomakomai.fun/event/%e3%80%8cdogrun-ken%ef%bc%8b%e3%80%8d%e3%83%93%e3%82%a2%e3%82%ac%e3%83%bc%e3%83%87%e3%83%b3%e5%a4%8f%e3%81%be%e3%81%a4%e3%82%8a/
LOCATION:北海道
CATEGORIES:お祭り
ATTACH;FMTTYPE=image/jpeg:https://tomakomai.fun/wp-content/uploads/2025/07/IMG_6629.jpg
END:VEVENT
BEGIN:VEVENT
DTSTART;TZID=Asia/Tokyo:20250727T110000
DTEND;TZID=Asia/Tokyo:20250727T210000
DTSTAMP:20260425T212355
CREATED:20250722T053214Z
LAST-MODIFIED:20250722T053214Z
UID:6942-1753614000-1753650000@tomakomai.fun
SUMMARY:「DogRun KEN＋」ビアガーデン&夏まつり
DESCRIPTION:この投稿をInstagramで見る            西彩笑店会公式アカウント@苫小牧(@saisaisyoutenkai_tomakomai)がシェアした投稿 \n\n\n\n\n\n\n\nときわ町の「DogRun KEN＋」でビアガーデンや夏祭りが開催されます。夏といえばビアガーデン！苫小牧でも各地でビアガーデンが催されています。苫小牧市内のビアガーデン情報は、これらの記事もあわせてチェックしてみてください。7月26日（土）、27日（日）の2日間、ときわ町のドッグラン施設・「DogRun KEN＋...tomakomai.fun2025/07/20
URL:https://tomakomai.fun/event/%e3%80%8cdogrun-ken%ef%bc%8b%e3%80%8d%e3%83%93%e3%82%a2%e3%82%ac%e3%83%bc%e3%83%87%e3%83%b3%e5%a4%8f%e3%81%be%e3%81%a4%e3%82%8a-2/
LOCATION:北海道
CATEGORIES:お祭り
ATTACH;FMTTYPE=image/jpeg:https://tomakomai.fun/wp-content/uploads/2025/07/IMG_6629.jpg
END:VEVENT
BEGIN:VEVENT
DTSTART;TZID=Asia/Tokyo:20250801T000000
DTEND;TZID=Asia/Tokyo:20250803T235959
DTSTAMP:20260425T212355
CREATED:20250602T061403Z
LAST-MODIFIED:20250723T041252Z
UID:5884-1754006400-1754265599@tomakomai.fun
SUMMARY:第70回 とまこまい港まつり
DESCRIPTION:第70回とまこまい港まつりポスター\n\n\n\n港と共に70年　輝く未来へ苫小牧！ \n\n\n\n◼︎日時：2025年8月1日(金)、8月2日(土)、8月3日(日)◼︎メイン会場：中央公園（苫小牧市若草町2丁目3)◼︎サブ会場：キラキラ公園（苫小牧市入船町3丁目1）◼︎主催：第70回とまこまい港まつり実行委員会 \n\n\n\n開催プログラム→苫小牧市ホームページ \n\n\n\n関連記事 \n\n\n\n\n\n今年は70回の節目で内容盛りだくさん！港まつりのプログラムが公開されました。皆さん、樽前山神社の例大祭は楽しみましたか？33年ぶりの中央tomakomai.fun\n\n\n\n\n\n\n「第70回 とまこまい港まつり」を記念して様々なイベントが開催されます。8月1日(金)、8月2日(土)、8月3日(日)の3日間、「第tomakomai.fun\n\n\n\n\n\n\n「第70回とまこまい港まつり」の市民おどりパレード参加団体の募集が始まりました。8月1日(金)・2日(土)・3日(日)に開催される「第70回 とまこまい港まつり」。昨年のレポートもあわせてご覧ください。その中でも市民が参加できる催しで、今年は8月2日(土)に開催される予定の「市民おどりパレード」の参加受付が始まりました...tomakomai.fun2025/05/27
URL:https://tomakomai.fun/event/%e7%ac%ac70%e5%9b%9e-%e3%81%a8%e3%81%be%e3%81%93%e3%81%be%e3%81%84%e6%b8%af%e3%81%be%e3%81%a4%e3%82%8a/
LOCATION:苫小牧中央公園\, 若草町2丁目3\, 苫小牧市\, 北海道\, 053-0021\, 日本
CATEGORIES:お祭り,港まつり,花火
ATTACH;FMTTYPE=image/jpeg:https://tomakomai.fun/wp-content/uploads/2025/06/IMG_6408.jpeg
END:VEVENT
BEGIN:VEVENT
DTSTART;TZID=Asia/Tokyo:20250809T073000
DTEND;TZID=Asia/Tokyo:20250809T080000
DTSTAMP:20260425T212355
CREATED:20250808T055719Z
LAST-MODIFIED:20250808T055719Z
UID:7399-1754724600-1754726400@tomakomai.fun
SUMMARY:川沿まつり
DESCRIPTION:日時：2025年8月9日(土)15時～20時\n\n\n\n会場：川沿公園（苫小牧市川沿町4丁目6）\n\n\n\n\n\n\n8月9日(土)は「川沿まつり」、10日(日)は「青葉区なつまつり」が開催されます。苫小牧の2大夏祭りである「樽前山神社 例大祭」（2025年7tomakomai.fun
URL:https://tomakomai.fun/event/%e5%b7%9d%e6%b2%bf%e3%81%be%e3%81%a4%e3%82%8a/
LOCATION:川沿公園\, 〒053-0822 北海道苫小牧市川沿町４丁目６
CATEGORIES:お祭り
ATTACH;FMTTYPE=image/jpeg:https://tomakomai.fun/wp-content/uploads/2025/08/IMG_6867-1.jpg
END:VEVENT
BEGIN:VEVENT
DTSTART;TZID=Asia/Tokyo:20250911T110000
DTEND;TZID=Asia/Tokyo:20250911T220000
DTSTAMP:20260425T212355
CREATED:20250908T160043Z
LAST-MODIFIED:20250908T160043Z
UID:7990-1757588400-1757628000@tomakomai.fun
SUMMARY:アーケード祭り
DESCRIPTION:アーケード祭り\n\n\n\n\n開催日時：2025年9月11日(木) 11:00〜22:00（予定）\n\n\n\n会場：大町寿町総合福祉会館・公園（北海道苫小牧市寿町２丁目３−１）
URL:https://tomakomai.fun/event/%e3%82%a2%e3%83%bc%e3%82%b1%e3%83%bc%e3%83%89%e7%a5%ad%e3%82%8a-2/
LOCATION:大町寿総合福祉会館\, 〒053-0024 北海道苫小牧市大町１丁目３−１３
CATEGORIES:お祭り
ATTACH;FMTTYPE=image/jpeg:https://tomakomai.fun/wp-content/uploads/2025/09/IMG_0383.jpeg
END:VEVENT
BEGIN:VEVENT
DTSTART;TZID=Asia/Tokyo:20251019T090000
DTEND;TZID=Asia/Tokyo:20251019T143000
DTSTAMP:20260425T212355
CREATED:20251006T013654Z
LAST-MODIFIED:20251006T013655Z
UID:8517-1760864400-1760884200@tomakomai.fun
SUMMARY:第12回 苫小牧漁港ホッキまつり
DESCRIPTION:■日時：2025年10月19日(日)　9:00〜14:30■場所：苫小牧港西港漁港区（汐見町1丁目1-13） \n\n\n\n\n\n食欲の秋、ホッキの秋♪「第12回 苫小牧漁港ホッキまつり」が開催されます。今年もこの季節がやってきました♪24年連続漁獲量日本一を誇るtomakomai.fun
URL:https://tomakomai.fun/event/%e7%ac%ac12%e5%9b%9e-%e8%8b%ab%e5%b0%8f%e7%89%a7%e6%bc%81%e6%b8%af%e3%83%9b%e3%83%83%e3%82%ad%e3%81%be%e3%81%a4%e3%82%8a/
LOCATION:苫小牧漁港区西側広場\, 汐見町２丁目\, 苫小牧市\, 北海道\, 日本
CATEGORIES:お祭り
ATTACH;FMTTYPE=image/jpeg:https://tomakomai.fun/wp-content/uploads/2025/10/IMG_2037-1.jpeg
END:VEVENT
END:VCALENDAR