BEGIN:VCALENDAR
VERSION:2.0
PRODID:-//とまこまいFUN - ECPv6.15.20//NONSGML v1.0//EN
CALSCALE:GREGORIAN
METHOD:PUBLISH
X-WR-CALNAME:とまこまいFUN
X-ORIGINAL-URL:https://tomakomai.fun
X-WR-CALDESC:とまこまいFUN のイベント
REFRESH-INTERVAL;VALUE=DURATION:PT1H
X-Robots-Tag:noindex
X-PUBLISHED-TTL:PT1H
BEGIN:VTIMEZONE
TZID:Asia/Tokyo
BEGIN:STANDARD
TZOFFSETFROM:+0900
TZOFFSETTO:+0900
TZNAME:JST
DTSTART:20240101T000000
END:STANDARD
END:VTIMEZONE
BEGIN:VEVENT
DTSTART;TZID=Asia/Tokyo:20250911T110000
DTEND;TZID=Asia/Tokyo:20250911T220000
DTSTAMP:20260420T121953
CREATED:20250908T160043Z
LAST-MODIFIED:20250908T160043Z
UID:7990-1757588400-1757628000@tomakomai.fun
SUMMARY:アーケード祭り
DESCRIPTION:アーケード祭り\n\n\n\n\n開催日時：2025年9月11日(木) 11:00〜22:00（予定）\n\n\n\n会場：大町寿町総合福祉会館・公園（北海道苫小牧市寿町２丁目３−１）
URL:https://tomakomai.fun/event/%e3%82%a2%e3%83%bc%e3%82%b1%e3%83%bc%e3%83%89%e7%a5%ad%e3%82%8a-2/
LOCATION:大町寿総合福祉会館\, 〒053-0024 北海道苫小牧市大町１丁目３−１３
CATEGORIES:お祭り
ATTACH;FMTTYPE=image/jpeg:https://tomakomai.fun/wp-content/uploads/2025/09/IMG_0383.jpeg
END:VEVENT
BEGIN:VEVENT
DTSTART;TZID=Asia/Tokyo:20251019T090000
DTEND;TZID=Asia/Tokyo:20251019T143000
DTSTAMP:20260420T121953
CREATED:20251006T013654Z
LAST-MODIFIED:20251006T013655Z
UID:8517-1760864400-1760884200@tomakomai.fun
SUMMARY:第12回 苫小牧漁港ホッキまつり
DESCRIPTION:■日時：2025年10月19日(日)　9:00〜14:30■場所：苫小牧港西港漁港区（汐見町1丁目1-13） \n\n\n\n\n\n食欲の秋、ホッキの秋♪「第12回 苫小牧漁港ホッキまつり」が開催されます。今年もこの季節がやってきました♪24年連続漁獲量日本一を誇るtomakomai.fun
URL:https://tomakomai.fun/event/%e7%ac%ac12%e5%9b%9e-%e8%8b%ab%e5%b0%8f%e7%89%a7%e6%bc%81%e6%b8%af%e3%83%9b%e3%83%83%e3%82%ad%e3%81%be%e3%81%a4%e3%82%8a/
LOCATION:苫小牧漁港区西側広場\, 汐見町２丁目\, 苫小牧市\, 北海道\, 日本
CATEGORIES:お祭り
ATTACH;FMTTYPE=image/jpeg:https://tomakomai.fun/wp-content/uploads/2025/10/IMG_2037-1.jpeg
END:VEVENT
END:VCALENDAR