BEGIN:VCALENDAR
VERSION:2.0
PRODID:-//とまこまいFUN - ECPv6.15.20//NONSGML v1.0//EN
CALSCALE:GREGORIAN
METHOD:PUBLISH
X-WR-CALNAME:とまこまいFUN
X-ORIGINAL-URL:https://tomakomai.fun
X-WR-CALDESC:とまこまいFUN のイベント
REFRESH-INTERVAL;VALUE=DURATION:PT1H
X-Robots-Tag:noindex
X-PUBLISHED-TTL:PT1H
BEGIN:VTIMEZONE
TZID:Asia/Tokyo
BEGIN:STANDARD
TZOFFSETFROM:+0900
TZOFFSETTO:+0900
TZNAME:JST
DTSTART:20230101T000000
END:STANDARD
END:VTIMEZONE
BEGIN:VEVENT
DTSTART;TZID=Asia/Tokyo:20240727T103000
DTEND;TZID=Asia/Tokyo:20240727T190000
DTSTAMP:20260425T113539
CREATED:20240722T065034Z
LAST-MODIFIED:20240722T065034Z
UID:1146-1722076200-1722106800@tomakomai.fun
SUMMARY:新開明野元町町内会 町内夏祭り
DESCRIPTION:
URL:https://tomakomai.fun/event/%e6%96%b0%e9%96%8b%e6%98%8e%e9%87%8e%e5%85%83%e7%94%ba%e7%94%ba%e5%86%85%e4%bc%9a-%e7%94%ba%e5%86%85%e5%a4%8f%e7%a5%ad%e3%82%8a/
LOCATION:ゆたか公園\, 〒053-0052 北海道苫小牧市新開町２丁目８
CATEGORIES:お祭り,キッチンカー,ダンス,音楽,食
ATTACH;FMTTYPE=image/jpeg:https://tomakomai.fun/wp-content/uploads/2024/07/FADEDA61-75C3-40C6-9872-8A81262980CE.jpeg
END:VEVENT
BEGIN:VEVENT
DTSTART;TZID=Asia/Tokyo:20240726T170000
DTEND;TZID=Asia/Tokyo:20240726T203000
DTSTAMP:20260425T113539
CREATED:20240716T085405Z
LAST-MODIFIED:20240716T090201Z
UID:1058-1722013200-1722025800@tomakomai.fun
SUMMARY:復活！納涼ビールパーティー
DESCRIPTION:
URL:https://tomakomai.fun/event/%e5%be%a9%e6%b4%bb%ef%bc%81%e7%b4%8d%e6%b6%bc%e3%83%93%e3%83%bc%e3%83%ab%e3%83%91%e3%83%bc%e3%83%86%e3%82%a3%e3%83%bc/
LOCATION:表町公園\, 〒053-0022 北海道苫小牧市表町１丁目４−２４\, 苫小牧市
CATEGORIES:お祭り
ATTACH;FMTTYPE=image/jpeg:https://tomakomai.fun/wp-content/uploads/2024/07/IMG_9081.jpeg
END:VEVENT
BEGIN:VEVENT
DTSTART;VALUE=DATE:20240721
DTEND;VALUE=DATE:20240722
DTSTAMP:20260425T113539
CREATED:20240701T124242Z
LAST-MODIFIED:20240721T013133Z
UID:683-1721520000-1721606399@tomakomai.fun
SUMMARY:苫UZU祭
DESCRIPTION:
URL:https://tomakomai.fun/event/%e8%8b%abuzu%e7%a5%ad/
LOCATION:いずも公園\, 錦町1丁目5番地\, 苫小牧市\, 北海道\, 053-0023\, 日本
CATEGORIES:お祭り
ATTACH;FMTTYPE=image/jpeg:https://tomakomai.fun/wp-content/uploads/2024/07/Image-12.jpeg
END:VEVENT
BEGIN:VEVENT
DTSTART;VALUE=DATE:20240720
DTEND;VALUE=DATE:20240721
DTSTAMP:20260425T113539
CREATED:20240701T130632Z
LAST-MODIFIED:20240720T124428Z
UID:696-1721433600-1721519999@tomakomai.fun
SUMMARY:ゆうふつ花火大会2024
DESCRIPTION:
URL:https://tomakomai.fun/event/%e3%82%86%e3%81%86%e3%81%b5%e3%81%a4%e8%8a%b1%e7%81%ab%e5%a4%a7%e4%bc%9a2024/
LOCATION:勇払マリーナ\, 勇払376番地\, 苫小牧市\, 北海道\, 日本
CATEGORIES:お祭り,キッチンカー,ハンドメイド,花火,音楽
ATTACH;FMTTYPE=image/jpeg:https://tomakomai.fun/wp-content/uploads/2024/07/0509_poster_2.jpg
END:VEVENT
BEGIN:VEVENT
DTSTART;VALUE=DATE:20240714
DTEND;VALUE=DATE:20240717
DTSTAMP:20260425T113539
CREATED:20240514T062635Z
LAST-MODIFIED:20240716T091008Z
UID:92-1720915200-1721174399@tomakomai.fun
SUMMARY:樽前山神社例大祭
DESCRIPTION:
URL:https://tomakomai.fun/event/%e6%a8%bd%e5%89%8d%e5%b1%b1%e3%81%8a%e7%a5%ad%e3%82%8a/
LOCATION:樽前山神社\, 高丘６−４９\, 苫小牧市\, 北海道\, 053-0035\, 日本
CATEGORIES:お祭り,音楽,食
ATTACH;FMTTYPE=image/jpeg:https://tomakomai.fun/wp-content/uploads/2024/05/樽前神社-01.jpg
END:VEVENT
BEGIN:VEVENT
DTSTART;VALUE=DATE:20240713
DTEND;VALUE=DATE:20240716
DTSTAMP:20260425T113539
CREATED:20240701T125756Z
LAST-MODIFIED:20240701T125756Z
UID:689-1720828800-1721087999@tomakomai.fun
SUMMARY:ウポポイ祭
DESCRIPTION:
URL:https://tomakomai.fun/event/%e3%82%a6%e3%83%9d%e3%83%9d%e3%82%a4%e7%a5%ad/
LOCATION:ウポポイ（民族共生象徴空間）\, 若草町2丁目3\, 白老郡白老町\, 北海道\, 059-0902\, 日本
CATEGORIES:お祭り,学ぶ,自然,食
ATTACH;FMTTYPE=image/jpeg:https://tomakomai.fun/wp-content/uploads/2024/07/f7d50939c4a0615b27c0d9b56a4c05d9-2_ページ_1.jpg
END:VEVENT
BEGIN:VEVENT
DTSTART;VALUE=DATE:20240707
DTEND;VALUE=DATE:20240708
DTSTAMP:20260425T113539
CREATED:20240622T140050Z
LAST-MODIFIED:20240704T164830Z
UID:491-1720310400-1720396799@tomakomai.fun
SUMMARY:ゼロカーボン×ゼロごみ大作戦！祭り
DESCRIPTION:9:00am〜3:00pm
URL:https://tomakomai.fun/event/%e3%82%bc%e3%83%ad%e3%82%ab%e3%83%bc%e3%83%9c%e3%83%b3x%e3%82%bc%e3%83%ad%e3%81%94%e3%81%bf%e5%a4%a7%e4%bd%9c%e6%88%a6%ef%bc%81%e7%a5%ad%e3%82%8a/
LOCATION:JFEリサイクルプラザ苫小牧\, 沼ノ端2番の25\, 苫小牧市\, 北海道\, 059-1364\, 日本
CATEGORIES:お祭り,ワークショップ,学ぶ,展示
ATTACH;FMTTYPE=image/jpeg:https://tomakomai.fun/wp-content/uploads/2024/07/3FFD10B6-4D32-4B92-B38A-D5B302775ACB.jpeg
END:VEVENT
BEGIN:VEVENT
DTSTART;VALUE=DATE:20240706
DTEND;VALUE=DATE:20240708
DTSTAMP:20260425T113539
CREATED:20240701T120737Z
LAST-MODIFIED:20240821T075902Z
UID:666-1720224000-1720396799@tomakomai.fun
SUMMARY:あびら夏！うまかまつり
DESCRIPTION:
URL:https://tomakomai.fun/event/%e3%81%82%e3%81%b3%e3%82%89%e5%a4%8f%ef%bc%81%e3%81%86%e3%81%be%e3%81%8b%e3%81%be%e3%81%a4%e3%82%8a/
LOCATION:ときわ公園（安平町）\, 早来北進102-5\, 勇払郡安平町\, 北海道\, 059-1502\, 日本
CATEGORIES:お祭り,花火,音楽,食
ATTACH;FMTTYPE=image/jpeg:https://tomakomai.fun/wp-content/uploads/2024/07/Image-8.jpeg
END:VEVENT
BEGIN:VEVENT
DTSTART;VALUE=DATE:20240706
DTEND;VALUE=DATE:20240708
DTSTAMP:20260425T113539
CREATED:20240622T135304Z
LAST-MODIFIED:20240821T080911Z
UID:486-1720224000-1720396799@tomakomai.fun
SUMMARY:トマベイウォーターフロント2024
DESCRIPTION:
URL:https://tomakomai.fun/event/%e3%83%88%e3%83%9e%e3%83%99%e3%82%a4%e3%82%a6%e3%82%a9%e3%83%bc%e3%82%bf%e3%83%bc%e3%83%95%e3%83%ad%e3%83%b3%e3%83%882024-2/
LOCATION:キラキラ公園\, 3-1\, 苫小牧市入船町\, 北海道\, 053-0003\, 日本
CATEGORIES:お祭り,キッチンカー,ワークショップ,音楽
ATTACH;FMTTYPE=image/jpeg:https://tomakomai.fun/wp-content/uploads/2024/06/tomabei.jpg
END:VEVENT
BEGIN:VEVENT
DTSTART;VALUE=DATE:20240629
DTEND;VALUE=DATE:20240701
DTSTAMP:20260425T113539
CREATED:20240622T134118Z
LAST-MODIFIED:20240821T081009Z
UID:481-1719619200-1719791999@tomakomai.fun
SUMMARY:トマベイウォーターフロント2024
DESCRIPTION:
URL:https://tomakomai.fun/event/%e3%83%88%e3%83%9e%e3%83%99%e3%82%a4%e3%82%a6%e3%82%a9%e3%83%bc%e3%82%bf%e3%83%bc%e3%83%95%e3%83%ad%e3%83%b3%e3%83%882024/
LOCATION:キラキラ公園\, 3-1\, 苫小牧市入船町\, 北海道\, 053-0003\, 日本
CATEGORIES:お祭り,キッチンカー,ワークショップ,音楽
ATTACH;FMTTYPE=image/jpeg:https://tomakomai.fun/wp-content/uploads/2024/06/tomabei.jpg
END:VEVENT
END:VCALENDAR