BEGIN:VCALENDAR
VERSION:2.0
PRODID:-//とまこまいFUN - ECPv6.15.20//NONSGML v1.0//EN
CALSCALE:GREGORIAN
METHOD:PUBLISH
X-ORIGINAL-URL:https://tomakomai.fun
X-WR-CALDESC:とまこまいFUN のイベント
REFRESH-INTERVAL;VALUE=DURATION:PT1H
X-Robots-Tag:noindex
X-PUBLISHED-TTL:PT1H
BEGIN:VTIMEZONE
TZID:Asia/Tokyo
BEGIN:STANDARD
TZOFFSETFROM:+0900
TZOFFSETTO:+0900
TZNAME:JST
DTSTART:20230101T000000
END:STANDARD
END:VTIMEZONE
BEGIN:VEVENT
DTSTART;VALUE=DATE:20240706
DTEND;VALUE=DATE:20240708
DTSTAMP:20260419T211527
CREATED:20240701T120737Z
LAST-MODIFIED:20240821T075902Z
UID:666-1720224000-1720396799@tomakomai.fun
SUMMARY:あびら夏！うまかまつり
DESCRIPTION:
URL:https://tomakomai.fun/event/%e3%81%82%e3%81%b3%e3%82%89%e5%a4%8f%ef%bc%81%e3%81%86%e3%81%be%e3%81%8b%e3%81%be%e3%81%a4%e3%82%8a/
LOCATION:ときわ公園（安平町）\, 早来北進102-5\, 勇払郡安平町\, 北海道\, 059-1502\, 日本
CATEGORIES:お祭り,花火,音楽,食
ATTACH;FMTTYPE=image/jpeg:https://tomakomai.fun/wp-content/uploads/2024/07/Image-8.jpeg
END:VEVENT
BEGIN:VEVENT
DTSTART;VALUE=DATE:20240706
DTEND;VALUE=DATE:20240707
DTSTAMP:20260419T211527
CREATED:20240701T121136Z
LAST-MODIFIED:20240702T142107Z
UID:669-1720224000-1720310399@tomakomai.fun
SUMMARY:カナモトサンクスフェア
DESCRIPTION:
URL:https://tomakomai.fun/event/%e3%82%ab%e3%83%8a%e3%83%a2%e3%83%88%e3%82%b5%e3%83%b3%e3%82%af%e3%82%b9%e3%83%95%e3%82%a7%e3%82%a2/
LOCATION:株式会社カナモト 苫小牧営業所\, 新開町2丁目3番9号\, 苫小牧市\, 北海道\, 053-0052\, 日本
CATEGORIES:展示,食
ATTACH;FMTTYPE=image/jpeg:https://tomakomai.fun/wp-content/uploads/2024/07/Image-10.jpeg
END:VEVENT
BEGIN:VEVENT
DTSTART;VALUE=DATE:20240707
DTEND;VALUE=DATE:20240708
DTSTAMP:20260419T211527
CREATED:20240701T120146Z
LAST-MODIFIED:20240702T141625Z
UID:648-1720310400-1720396799@tomakomai.fun
SUMMARY:沼フェス
DESCRIPTION:
URL:https://tomakomai.fun/event/%e6%b2%bc%e3%83%95%e3%82%a7%e3%82%b9/
LOCATION:沼ノ端新栄公園\, 北栄町3丁目2\, 苫小牧市\, 北海道\, 059-1304\, 日本
CATEGORIES:キッチンカー,音楽,食
ATTACH;FMTTYPE=image/jpeg:https://tomakomai.fun/wp-content/uploads/2024/07/441658481_977234591070921_5030005559308427553_n.jpg
END:VEVENT
BEGIN:VEVENT
DTSTART;VALUE=DATE:20240710
DTEND;VALUE=DATE:20240711
DTSTAMP:20260419T211527
CREATED:20240701T134926Z
LAST-MODIFIED:20240702T141638Z
UID:728-1720569600-1720655999@tomakomai.fun
SUMMARY:おさんぽマルシェ パンフェス
DESCRIPTION:
URL:https://tomakomai.fun/event/%e3%81%8a%e3%81%95%e3%82%93%e3%81%bd%e3%83%9e%e3%83%ab%e3%82%b7%e3%82%a7-%e3%83%91%e3%83%b3%e3%83%95%e3%82%a7%e3%82%b9/
LOCATION:nepiaアイスアリーナ\, 若草町２丁目４−１\, 苫小牧市\, 北海道\, 053-0021\, 日本
CATEGORIES:食
ATTACH;FMTTYPE=image/jpeg:https://tomakomai.fun/wp-content/uploads/2024/07/Image-13.jpeg
END:VEVENT
BEGIN:VEVENT
DTSTART;VALUE=DATE:20240713
DTEND;VALUE=DATE:20240715
DTSTAMP:20260419T211527
CREATED:20240702T141337Z
LAST-MODIFIED:20240702T141337Z
UID:780-1720828800-1721001599@tomakomai.fun
SUMMARY:鳥と湖のマルシェ
DESCRIPTION:
URL:https://tomakomai.fun/event/%e9%b3%a5%e3%81%a8%e6%b9%96%e3%81%ae%e3%83%9e%e3%83%ab%e3%82%b7%e3%82%a7/
LOCATION:道の駅ウトナイ湖\, 植苗156-30\, 苫小牧市\, 北海道\, 日本
CATEGORIES:キッチンカー,ハンドメイド,ワークショップ,食
ATTACH;FMTTYPE=image/jpeg:https://tomakomai.fun/wp-content/uploads/2024/07/Image-15.jpeg
END:VEVENT
BEGIN:VEVENT
DTSTART;VALUE=DATE:20240713
DTEND;VALUE=DATE:20240715
DTSTAMP:20260419T211527
CREATED:20240710T081225Z
LAST-MODIFIED:20240710T081225Z
UID:990-1720828800-1721001599@tomakomai.fun
SUMMARY:カロとまFES2024
DESCRIPTION:
URL:https://tomakomai.fun/event/%e3%82%ab%e3%83%ad%e3%81%a8%e3%81%befes2024/
LOCATION:トヨタカローラ苫小牧（株） いとい店\, 〒053-0814 北海道苫小牧市糸井１４４−７
CATEGORIES:キッチンカー,ワークショップ,学ぶ,食
ATTACH;FMTTYPE=image/jpeg:https://tomakomai.fun/wp-content/uploads/2024/07/画像-1-1.jpeg
END:VEVENT
BEGIN:VEVENT
DTSTART;VALUE=DATE:20240713
DTEND;VALUE=DATE:20240716
DTSTAMP:20260419T211527
CREATED:20240701T125756Z
LAST-MODIFIED:20240701T125756Z
UID:689-1720828800-1721087999@tomakomai.fun
SUMMARY:ウポポイ祭
DESCRIPTION:
URL:https://tomakomai.fun/event/%e3%82%a6%e3%83%9d%e3%83%9d%e3%82%a4%e7%a5%ad/
LOCATION:ウポポイ（民族共生象徴空間）\, 若草町2丁目3\, 白老郡白老町\, 北海道\, 059-0902\, 日本
CATEGORIES:お祭り,学ぶ,自然,食
ATTACH;FMTTYPE=image/jpeg:https://tomakomai.fun/wp-content/uploads/2024/07/f7d50939c4a0615b27c0d9b56a4c05d9-2_ページ_1.jpg
END:VEVENT
BEGIN:VEVENT
DTSTART;VALUE=DATE:20240714
DTEND;VALUE=DATE:20240717
DTSTAMP:20260419T211527
CREATED:20240514T062635Z
LAST-MODIFIED:20240716T091008Z
UID:92-1720915200-1721174399@tomakomai.fun
SUMMARY:樽前山神社例大祭
DESCRIPTION:
URL:https://tomakomai.fun/event/%e6%a8%bd%e5%89%8d%e5%b1%b1%e3%81%8a%e7%a5%ad%e3%82%8a/
LOCATION:樽前山神社\, 高丘６−４９\, 苫小牧市\, 北海道\, 053-0035\, 日本
CATEGORIES:お祭り,音楽,食
ATTACH;FMTTYPE=image/jpeg:https://tomakomai.fun/wp-content/uploads/2024/05/樽前神社-01.jpg
END:VEVENT
BEGIN:VEVENT
DTSTART;VALUE=DATE:20240721
DTEND;VALUE=DATE:20240722
DTSTAMP:20260419T211527
CREATED:20240708T135546Z
LAST-MODIFIED:20240708T135546Z
UID:958-1721520000-1721606399@tomakomai.fun
SUMMARY:錦麦ビアガーデン
DESCRIPTION:
URL:https://tomakomai.fun/event/%e9%8c%a6%e9%ba%a6%e3%83%93%e3%82%a2%e3%82%ac%e3%83%bc%e3%83%87%e3%83%b3/
LOCATION:錦岡樽前山神社\, 宮前町３丁目６−２０\, 苫小牧市\, 北海道\, 059-1264\, 日本
CATEGORIES:キッチンカー,食
ATTACH;FMTTYPE=image/jpeg:https://tomakomai.fun/wp-content/uploads/2024/07/Image-2-1.jpeg
END:VEVENT
BEGIN:VEVENT
DTSTART;VALUE=DATE:20240727
DTEND;VALUE=DATE:20240729
DTSTAMP:20260419T211527
CREATED:20240719T030624Z
LAST-MODIFIED:20240723T081147Z
UID:1110-1722038400-1722211199@tomakomai.fun
SUMMARY:ぷらっとみなと市場祭
DESCRIPTION:2日間の限定プライス、売切御免の大特価市を開催‼︎ \n対象22店のいずれかで、各店舗設定金額に応じたお買い上げ、飲食をされたお客様に【BOXティッシュ5箱】をプレゼント！（2日間で1\,260名様にプレゼント予定） \n子供縁日、ハンドメイドマーケット、露店も開催予定！
URL:https://tomakomai.fun/event/%e3%81%b7%e3%82%89%e3%81%a3%e3%81%a8%e3%81%bf%e3%81%aa%e3%81%a8%e5%b8%82%e5%a0%b4%e7%a5%ad/
LOCATION:ぷらっとみなと市場\, 北海道苫小牧市港町２丁目２−５
CATEGORIES:お祭り,食
ATTACH;FMTTYPE=image/jpeg:https://tomakomai.fun/wp-content/uploads/2024/07/IMG_9187-1.jpeg
END:VEVENT
BEGIN:VEVENT
DTSTART;TZID=Asia/Tokyo:20240727T103000
DTEND;TZID=Asia/Tokyo:20240727T190000
DTSTAMP:20260419T211527
CREATED:20240722T065034Z
LAST-MODIFIED:20240722T065034Z
UID:1146-1722076200-1722106800@tomakomai.fun
SUMMARY:新開明野元町町内会 町内夏祭り
DESCRIPTION:
URL:https://tomakomai.fun/event/%e6%96%b0%e9%96%8b%e6%98%8e%e9%87%8e%e5%85%83%e7%94%ba%e7%94%ba%e5%86%85%e4%bc%9a-%e7%94%ba%e5%86%85%e5%a4%8f%e7%a5%ad%e3%82%8a/
LOCATION:ゆたか公園\, 〒053-0052 北海道苫小牧市新開町２丁目８
CATEGORIES:お祭り,キッチンカー,ダンス,音楽,食
ATTACH;FMTTYPE=image/jpeg:https://tomakomai.fun/wp-content/uploads/2024/07/FADEDA61-75C3-40C6-9872-8A81262980CE.jpeg
END:VEVENT
END:VCALENDAR