BEGIN:VCALENDAR
VERSION:2.0
PRODID:-//とまこまいFUN - ECPv6.15.20//NONSGML v1.0//EN
CALSCALE:GREGORIAN
METHOD:PUBLISH
X-ORIGINAL-URL:https://tomakomai.fun
X-WR-CALDESC:とまこまいFUN のイベント
REFRESH-INTERVAL;VALUE=DURATION:PT1H
X-Robots-Tag:noindex
X-PUBLISHED-TTL:PT1H
BEGIN:VTIMEZONE
TZID:Asia/Tokyo
BEGIN:STANDARD
TZOFFSETFROM:+0900
TZOFFSETTO:+0900
TZNAME:JST
DTSTART:20240101T000000
END:STANDARD
END:VTIMEZONE
BEGIN:VEVENT
DTSTART;TZID=Asia/Tokyo:20250302T093000
DTEND;TZID=Asia/Tokyo:20250302T130000
DTSTAMP:20260420T065602
CREATED:20250127T015958Z
LAST-MODIFIED:20250205T171230Z
UID:3758-1740907800-1740920400@tomakomai.fun
SUMMARY:第42回 技能祭
DESCRIPTION:副題：広めよう技能の輪 \n\n\n\n開催日時：2025年3月2日（日）9:30～13:00 \n\n\n\n会費：無料 \n\n\n\n会場： \n\n\n\n\n第1会場：苫小牧地域職業訓練センター\n\n住所：苫小牧市新開町4丁目6-12（駐車場あり）\n\n\n\n\n\n第2会場：北海道立苫小牧高等技術専門学院\n\n住所：苫小牧市新開町4丁目6-10（駐車場あり）\n\n\n\n\n\n\nイベント内容： \n\n\n\n\n北海道技能振興コーナー\n\n「ものづくり体験」（人数制限あり）\n\n\n\n\n\n9:30～オープニングセレモニー\n\n餅まき\n\n\n\n菓子まき\n\n\n\n\n\n協賛商社の商品販売\n\n\n\n苫高専ロボコン\n\n\n\n職人・手作り作品の展示・即売\n\n\n\nプロの調理師による食事コーナー\n\n\n\n\nとまチョップも来場予定！
URL:https://tomakomai.fun/event/event-ginousai/
CATEGORIES:体験
ATTACH;FMTTYPE=image/jpeg:https://tomakomai.fun/wp-content/uploads/2025/01/Image-4-1.jpg
END:VEVENT
END:VCALENDAR