BEGIN:VCALENDAR
VERSION:2.0
PRODID:-//とまこまいFUN - ECPv6.15.20//NONSGML v1.0//EN
CALSCALE:GREGORIAN
METHOD:PUBLISH
X-ORIGINAL-URL:https://tomakomai.fun
X-WR-CALDESC:とまこまいFUN のイベント
REFRESH-INTERVAL;VALUE=DURATION:PT1H
X-Robots-Tag:noindex
X-PUBLISHED-TTL:PT1H
BEGIN:VTIMEZONE
TZID:Asia/Tokyo
BEGIN:STANDARD
TZOFFSETFROM:+0900
TZOFFSETTO:+0900
TZNAME:JST
DTSTART:20240101T000000
END:STANDARD
END:VTIMEZONE
BEGIN:VEVENT
DTSTART;TZID=Asia/Tokyo:20250530T100000
DTEND;TZID=Asia/Tokyo:20250530T120000
DTSTAMP:20260420T070625
CREATED:20250508T081006Z
LAST-MODIFIED:20250508T081111Z
UID:5508-1748599200-1748606400@tomakomai.fun
SUMMARY:「ごみゼロの日イベント」 in イオンモール苫小牧
DESCRIPTION:🌱ごみゼロの日イベント in イオンモール苫小牧 \n\n\n\n📍場所：イオンモール苫小牧 1階セントラルコート🗓️日時：令和7年5月30日（金）10:00〜12:00🎟️参加無料・先着200名にプレゼントあり！ \n\n\n\n \n\n\n\n \n\n\n\n\n\n「ごみゼロの日イベント」 in イオンモール苫小牧のお知らせ5月30日は「530（ごみゼロ）の日」。ごみの減量や環境について考える大切な日です。この日に苫小牧市では今年も楽しい体験型イベントがありますよ！ご家族やお友達と一緒に、遊びながら環境について学んでみませんか？tomakomai.fun
URL:https://tomakomai.fun/event/%e3%80%8c%e3%81%94%e3%81%bf%e3%82%bc%e3%83%ad%e3%81%ae%e6%97%a5%e3%82%a4%e3%83%99%e3%83%b3%e3%83%88%e3%80%8d-in-%e3%82%a4%e3%82%aa%e3%83%b3%e3%83%a2%e3%83%bc%e3%83%ab%e8%8b%ab%e5%b0%8f%e7%89%a7/
LOCATION:イオンモール苫小牧\, 〒053-0053 北海道苫小牧市柳町３丁目１−２０
CATEGORIES:体験
ATTACH;FMTTYPE=image/jpeg:https://tomakomai.fun/wp-content/uploads/2025/05/IMG_5427.jpg
END:VEVENT
BEGIN:VEVENT
DTSTART;TZID=Asia/Tokyo:20250601T100000
DTEND;TZID=Asia/Tokyo:20250601T163000
DTSTAMP:20260420T070625
CREATED:20250519T032410Z
LAST-MODIFIED:20250519T032412Z
UID:5690-1748772000-1748795400@tomakomai.fun
SUMMARY:KOPPA ファミリーまつり2025
DESCRIPTION:三光町「株式会社　門田組」さんで子どもから大人まで楽しめるイベントが開催されます！！三光町2丁目にあります、新築住宅やリフォームなどを手掛けていtomakomai.fun
URL:https://tomakomai.fun/event/koppa-%e3%83%95%e3%82%a1%e3%83%9f%e3%83%aa%e3%83%bc%e3%81%be%e3%81%a4%e3%82%8a2025/
LOCATION:門田組\, 〒053-0042 北海道苫小牧市三光町２丁目８−１
CATEGORIES:ワークショップ,体験
ATTACH;FMTTYPE=image/jpeg:https://tomakomai.fun/wp-content/uploads/2025/05/IMG_5808-1.jpeg
END:VEVENT
BEGIN:VEVENT
DTSTART;TZID=Asia/Tokyo:20250608T090000
DTEND;TZID=Asia/Tokyo:20250608T170000
DTSTAMP:20260420T070625
CREATED:20250521T020004Z
LAST-MODIFIED:20250521T020012Z
UID:5730-1749373200-1749402000@tomakomai.fun
SUMMARY:FUTURE PEACE STREET inTOMAKOMAI
DESCRIPTION:【FUTURE PEACE STREET in TOMAKOMAI】 \n\n\n\n日時：2025年6月8日（日）9:00〜17:00会場：nepiaアイスアリーナ（若草町2丁目4-1） \n\n\n\n参加申込： \n\n\n\n\n事前受付（5月20日まで）：バスケットボール3on3、ダンスショーケース、フットサル、ランバイクレース\n\n\n\n当日受付：モルック体験、サッカー体験、外国人講師による英語あそび、DTM\n\n\n\n\nゲスト： \n\n\n\n\nフリースタイルバドリブル 日本5連覇のレジェンド「Whitea」さん\n\n\n\nレッドイーグルス北海道の選手\n\n\n\n着ぐるみ恐竜キャラ「寺野さん」も⁈\n\n\n\n\nその他：キッチンカー出店あり \n\n\n\n後援：苫小牧市、FM苫小牧、とまこまい未来プロジェクト \n\n\n\n        この投稿をInstagramで見る            future peace street(@future_peace_street)がシェアした投稿
URL:https://tomakomai.fun/event/future-peace-street-intomakomai/
LOCATION:nepiaアイスアリーナ\, 若草町２丁目４−１\, 苫小牧市\, 北海道\, 053-0021\, 日本
CATEGORIES:スポーツ,ダンス,体験,音楽
ATTACH;FMTTYPE=image/jpeg:https://tomakomai.fun/wp-content/uploads/2025/05/E3718B48-5105-46B0-BBA4-ADEF7402B2B9.jpeg
END:VEVENT
BEGIN:VEVENT
DTSTART;TZID=Asia/Tokyo:20250726T130000
DTEND;TZID=Asia/Tokyo:20250726T160000
DTSTAMP:20260420T070625
CREATED:20250620T033759Z
LAST-MODIFIED:20250620T034059Z
UID:6161-1753534800-1753545600@tomakomai.fun
SUMMARY:「AM/FMラジオをつくろう！」苫小牧市科学センター発明工夫工作教室
DESCRIPTION:場所：苫小牧市科学センター（苫小牧市旭町3丁目1−12） \n\n\n\n日時：令和7年7月26日（土）13時〜（約3時間） \n\n\n\n対象：小学4年生〜6年生とその保護者1名 \n\n\n\n定員：20組40名（先着順／定員になり次第締切） \n\n\n\n参加料：無料（※材料や工具など、必要なものはすべて用意されています） \n\n\n\n\n\n\n\n【申込方法】\n\n\n\n\n受付開始：7月1日（火）～\n\n\n\n申込方法：電話のみで受付\n\nお申込時に伺う内容：\n\n氏名（お子様・保護者様）\n\n\n\nお子様の学校名\n\n\n\n学年\n\n\n\n日中に連絡の取れる電話番号\n\n\n\n\n\n\n\n申込先：苫小牧市科学センター☎ 0144-33-9158\n\n\n\n\n\n\n\n\n【ここが楽しいポイント♪】\n\n\n\n\nスパイダーコイルをくるくる巻いて、自分だけのラジオを組み立て！\n\n\n\n基板へのはんだ付けにもチャレンジ！\n\n\n\n完成したラジオはプレゼントとしてお持ち帰りOK♪\n\n\n\n万が一の停電時にも役立つ、頼もしいアイテムになるかも？\n\n\n\n\n\n\n\n\n親子で一緒に「ものづくり体験」を楽しめるチャンスです。夏の思い出作りに、ぜひご参加くださいね！ \n\n\n\n【共催】日本無線株式会社 北海道支社、株式会社電気工事西川組、苫小牧市教育委員会 教育部 苫小牧市科学センター【協力】苫小牧発明研究会【お問い合わせ】株式会社電気工事西川組 ☎ 0144-72-7917
URL:https://tomakomai.fun/event/am-fm%e3%83%a9%e3%82%b8%e3%82%aa%e3%82%92%e3%81%a4%e3%81%8f%e3%82%8d%e3%81%86%ef%bc%81%e3%80%8d/
LOCATION:苫小牧市科学センター\, 〒053-0018 北海道苫小牧市旭町３丁目１−１２
CATEGORIES:体験,学ぶ
ATTACH;FMTTYPE=image/jpeg:https://tomakomai.fun/wp-content/uploads/2025/06/IMG_7044.jpeg
END:VEVENT
BEGIN:VEVENT
DTSTART;TZID=Asia/Tokyo:20250809T100000
DTEND;TZID=Asia/Tokyo:20250809T160000
DTSTAMP:20260420T070625
CREATED:20250808T055139Z
LAST-MODIFIED:20250808T055140Z
UID:7391-1754733600-1754755200@tomakomai.fun
SUMMARY:子ども万博2025in平取
DESCRIPTION:子ども万博2025in平取\n\n\n\n◼︎日時：2025年8月9日(土) 10時〜16時◼︎場所：平取町 中央公民館 \n\n\n\n        この投稿をInstagramで見る            こども万博｜こどもが夢を見つけ・叶える1日(@kodomo_banpaku)がシェアした投稿
URL:https://tomakomai.fun/event/%e5%ad%90%e3%81%a9%e3%82%82%e4%b8%87%e5%8d%9a2025in%e5%b9%b3%e5%8f%96/
LOCATION:平取町 中央公民館\, 〒055-0107 北海道沙流郡平取町本町８８−１
CATEGORIES:体験
ATTACH;FMTTYPE=image/jpeg:https://tomakomai.fun/wp-content/uploads/2025/08/A205A3AD-AD15-4E36-B29D-7CBDB27C52E5.jpeg
END:VEVENT
END:VCALENDAR