BEGIN:VCALENDAR
VERSION:2.0
PRODID:-//とまこまいFUN - ECPv6.15.20//NONSGML v1.0//EN
CALSCALE:GREGORIAN
METHOD:PUBLISH
X-WR-CALNAME:とまこまいFUN
X-ORIGINAL-URL:https://tomakomai.fun
X-WR-CALDESC:とまこまいFUN のイベント
REFRESH-INTERVAL;VALUE=DURATION:PT1H
X-Robots-Tag:noindex
X-PUBLISHED-TTL:PT1H
BEGIN:VTIMEZONE
TZID:Asia/Tokyo
BEGIN:STANDARD
TZOFFSETFROM:+0900
TZOFFSETTO:+0900
TZNAME:JST
DTSTART:20230101T000000
END:STANDARD
END:VTIMEZONE
BEGIN:VEVENT
DTSTART;TZID=Asia/Tokyo:20250107T100000
DTEND;TZID=Asia/Tokyo:20250107T150000
DTSTAMP:20260420T105219
CREATED:20241202T014544Z
LAST-MODIFIED:20241202T014544Z
UID:2932-1736244000-1736262000@tomakomai.fun
SUMMARY:新春！ゼロカーボンまつり
DESCRIPTION:
URL:https://tomakomai.fun/event/%e6%96%b0%e6%98%a5%ef%bc%81%e3%82%bc%e3%83%ad%e3%82%ab%e3%83%bc%e3%83%9c%e3%83%b3%e3%81%be%e3%81%a4%e3%82%8a/
LOCATION:イオンモール苫小牧\, 〒053-0053 北海道苫小牧市柳町３丁目１−２０
CATEGORIES:体験
ATTACH;FMTTYPE=image/jpeg:https://tomakomai.fun/wp-content/uploads/2024/12/IMG_8153.jpg
END:VEVENT
BEGIN:VEVENT
DTSTART;TZID=Asia/Tokyo:20241130T110000
DTEND;TZID=Asia/Tokyo:20241130T140000
DTSTAMP:20260420T105219
CREATED:20241112T020616Z
LAST-MODIFIED:20241112T020616Z
UID:2716-1732964400-1732975200@tomakomai.fun
SUMMARY:令和6年度 手打ち新そばまつり
DESCRIPTION:
URL:https://tomakomai.fun/event/%e4%bb%a4%e5%92%8c6%e5%b9%b4%e5%ba%a6-%e6%89%8b%e6%89%93%e3%81%a1%e6%96%b0%e3%81%9d%e3%81%b0%e3%81%be%e3%81%a4%e3%82%8a/
LOCATION:緑ヶ丘トマロ\, 〒053-0035 北海道苫小牧市高丘１９−１
CATEGORIES:体験
ATTACH;FMTTYPE=image/jpeg:https://tomakomai.fun/wp-content/uploads/2024/11/IMG_7538.jpeg
END:VEVENT
END:VCALENDAR