BEGIN:VCALENDAR
VERSION:2.0
PRODID:-//とまこまいFUN - ECPv6.15.20//NONSGML v1.0//EN
CALSCALE:GREGORIAN
METHOD:PUBLISH
X-WR-CALNAME:とまこまいFUN
X-ORIGINAL-URL:https://tomakomai.fun
X-WR-CALDESC:とまこまいFUN のイベント
REFRESH-INTERVAL;VALUE=DURATION:PT1H
X-Robots-Tag:noindex
X-PUBLISHED-TTL:PT1H
BEGIN:VTIMEZONE
TZID:Asia/Tokyo
BEGIN:STANDARD
TZOFFSETFROM:+0900
TZOFFSETTO:+0900
TZNAME:JST
DTSTART:20240101T000000
END:STANDARD
END:VTIMEZONE
BEGIN:VEVENT
DTSTART;TZID=Asia/Tokyo:20250104T133000
DTEND;TZID=Asia/Tokyo:20250104T170000
DTSTAMP:20260420T032954
CREATED:20241226T081621Z
LAST-MODIFIED:20241226T081621Z
UID:3312-1735997400-1736010000@tomakomai.fun
SUMMARY:アッキーシアター〜入場無料のマジックショー〜
DESCRIPTION:
URL:https://tomakomai.fun/event/%e3%82%a2%e3%83%83%e3%82%ad%e3%83%bc%e3%82%b7%e3%82%a2%e3%82%bf%e3%83%bc%e3%80%9c%e5%85%a5%e5%a0%b4%e7%84%a1%e6%96%99%e3%81%ae%e3%83%9e%e3%82%b8%e3%83%83%e3%82%af%e3%82%b7%e3%83%a7%e3%83%bc%e3%80%9c/
LOCATION:アイビー・プラザ\, 〒053-0025 北海道苫小牧市本町１丁目６−１
CATEGORIES:マジック
ATTACH;FMTTYPE=image/jpeg:https://tomakomai.fun/wp-content/uploads/2024/12/IMG_9374.jpeg
END:VEVENT
END:VCALENDAR